BEGIN:VCALENDAR
VERSION:2.0
PRODID:-//La JaJa - ECPv4.3.4.1//NONSGML v1.0//EN
CALSCALE:GREGORIAN
METHOD:PUBLISH
X-WR-CALNAME:La JaJa
X-ORIGINAL-URL:https://www.lajajakids.com/en
X-WR-CALDESC:Events for La JaJa
BEGIN:VEVENT
DTSTART;VALUE=DATE:20190317
DTEND;VALUE=DATE:20190317
DTSTAMP:20260426T030027
CREATED:20180316T234108Z
LAST-MODIFIED:20190316T015544Z
UID:57713-1552780800-1552867199@www.lajajakids.com
SUMMARY:Sierra Madre Wistaria Festival
DESCRIPTION:\n\nThe biggest event of the year in Sierra Madre is always this festival to celebrate the Guiness Book of World Records' honoree for world's largest blossoming plant. The downtown Sierra Madre area comes alive with a free street festival\, promising all the wonderful food\, music\, and craft stalls that a good street fest ought to have.The star of the show\, of course\, is the epic flowering wisteria vine\, which has been delighting the area with blooms for more than a century.And if you're wondering about the spelling of the word "wistaria" versus "wisteria\," the simple answer is that this 120-year-old plant has lived so long that it outlived the spelling of its name; wistaria was the 19th century spelling.\n\n\n\n\n\n\n\n\n\n\n\n\nAge All ages\nPrice Festival Free; Shuttle to vine $12 for adult\, $7 for kids(7-14)\n\n\n\n\n\n\n\n\n
URL:https://www.lajajakids.com/en/event/sierra-madre-%e7%b4%ab%e8%97%a4%e8%8a%b1%e5%98%89%e5%b9%b4%e8%8f%af/
LOCATION:N. Baldwin Avenue\, Sierra Madre\, Sierra Madre\, CA\, 91024\, United States
GEO:34.1570654;-118.0529758
X-APPLE-STRUCTURED-LOCATION;VALUE=URI;X-ADDRESS=N. Baldwin Avenue Sierra Madre Sierra Madre CA 91024 United States;X-APPLE-RADIUS=500;X-TITLE=N. Baldwin Avenue\, Sierra Madre:geo:-118.0529758,34.1570654
CATEGORIES:Pink
ATTACH;FMTTYPE=image/jpeg:https://www.lajajakids.com/wp-content/uploads/2018/03/1978297_10152093330264215_913790327_o.jpg
END:VEVENT
END:VCALENDAR