BEGIN:VCALENDAR
VERSION:2.0
PRODID:-//La JaJa - ECPv4.3.4.1//NONSGML v1.0//EN
CALSCALE:GREGORIAN
METHOD:PUBLISH
X-WR-CALNAME:La JaJa
X-ORIGINAL-URL:https://www.lajajakids.com/en
X-WR-CALDESC:Events for La JaJa
BEGIN:VEVENT
DTSTART;VALUE=DATE:20181125
DTEND;VALUE=DATE:20181125
DTSTAMP:20260420T234919
CREATED:20181123T045041Z
LAST-MODIFIED:20181123T045210Z
UID:64912-1543104000-1543190399@www.lajajakids.com
SUMMARY:Raffi
DESCRIPTION:The Alex Theatre Box Office is open Friday\, Saturday and Sunday from noon to 5PM.\nPatrons who had purchased tickets for the 11/25/18 RAFFI Concert will be notified by E-Mail once the Event Producer and artist have finalized arrangements for a new performance date and time.\n\nAs the world’s best-selling children’s entertainer\, pioneering troubadour Raffi has spent more than four decades delighting successive generations of kids — and their parents — with his playful\, exuberant personality and his irresistibly infectious songs.\n\nRaffi is a singer\, songwriter\, producer\, author\, lecturer\, and tireless advocate for children. He is best known for his work as a children’s entertainer whose string of gold and platinum-selling recordings in North America includes his classic song\, ‘Baby Beluga.’ Once called ‘the most popular children’s singer in the English-speaking world’ (Washington Post) and ‘Canada’s all time children’s champion’ (Toronto Star)\, Raffi is also a recipient of the Order of Canada and the United Nations’ Earth Achievement Award. He has published three books and holds four honorary degrees. He has never advertised to children or made any commercial endorsements aimed at kids. His commitment to treating his young fans with respect changed society’s outlook on music made for children.\n\n‘It’s great fun singing for children and families\,’ says Raffi. ‘As well as singing many of my fans’ favorites\, I look forward to sharing a song or two from my Love Bug album and my new one\, Owl Singalong—and to the sounds of all of us singing old favourites from my very first album!’\n\nSpecial offer! Every pair of tickets for this show includes your choice of a digital download or CD of Raffi’s forthcoming album\, Dog on the Floor OR The Best of Raffi. You will receive an email with more details about this offer approximately 7 days after your ticket purchase.
URL:https://www.lajajakids.com/en/event/raffi%e9%9f%b3%e6%a8%82%e6%9c%83/
LOCATION:216 North Brand Blvd.\, Glendale\, CA\, United States
CATEGORIES:Red,JaJa’s Picks
ATTACH;FMTTYPE=image/jpeg:https://www.lajajakids.com/wp-content/uploads/2018/11/RAFFI_1_rgb-1200.jpg
END:VEVENT
END:VCALENDAR