BEGIN:VCALENDAR
VERSION:2.0
PRODID:-//La JaJa - ECPv4.3.4.1//NONSGML v1.0//EN
CALSCALE:GREGORIAN
METHOD:PUBLISH
X-WR-CALNAME:La JaJa
X-ORIGINAL-URL:https://www.lajajakids.com/en
X-WR-CALDESC:Events for La JaJa
BEGIN:VEVENT
DTSTART;VALUE=DATE:20180915
DTEND;VALUE=DATE:20180915
DTSTAMP:20260420T054751
CREATED:20180914T153717Z
LAST-MODIFIED:20180914T153717Z
UID:63309-1536969600-1537055999@www.lajajakids.com
SUMMARY:North Beach Playground Opening
DESCRIPTION:\n\n\nNorth Beach Playground\n\n\n\n\n\nOpening September 15\, 2018 at 10 a.m.\, this will be Santa Monica's newest universally accessible playground. The playground will include separate play areas for children 2–5 years old and another for children 5-8 years old. Universally accessible playgrounds include barrier-free equipment\, increased maneuvering space\, and accessible surfaces and paths. Sensory play elements such as touching\, feeling\, and hearing are utilized as well as swings\, slides\, and climbing equipment to inspire activity\, mobility\, and imagination in all children.\nHaga un click aquí para la información en español\n\nFor construction questions or concerns\, please call Sebastian Felbeck\, Senior Construction Manager\, at (310) 741-2488\n\n\n
URL:https://www.lajajakids.com/en/event/north-%e6%b5%b7%e7%81%98%e9%96%8b%e6%94%be%e6%97%a5/
LOCATION:810 Pacific Coast Highway\, Santa Monica\, CA\, 90401\, United States
CATEGORIES:Red,JaJa’s Picks
ATTACH;FMTTYPE=image/jpeg:https://www.lajajakids.com/wp-content/uploads/2018/09/2018_North_Beach_Playground_Jason_Abraham-3-of-51_small.jpg
END:VEVENT
END:VCALENDAR