BEGIN:VCALENDAR
VERSION:2.0
PRODID:-//La JaJa - ECPv4.3.4.1//NONSGML v1.0//EN
CALSCALE:GREGORIAN
METHOD:PUBLISH
X-WR-CALNAME:La JaJa
X-ORIGINAL-URL:https://www.lajajakids.com/en
X-WR-CALDESC:Events for La JaJa
BEGIN:VEVENT
DTSTART;VALUE=DATE:20190216
DTEND;VALUE=DATE:20190217
DTSTAMP:20260420T152954
CREATED:20190215T225117Z
LAST-MODIFIED:20190215T225117Z
UID:66462-1550275200-1550447999@www.lajajakids.com
SUMMARY:Presidents Day Weekend at Kidspace
DESCRIPTION:Celebrate Presidents Day at Kidspace by voting for the 2019 Animal Ambassador President. View their campaign platforms and slogans before casting your ballot!\n\nCome face-to-face with American history in the Stone Hollow Amphitheater during a Performance on the Frog each day at 1:00pm.\n\n\tSaturday 2/16 - George Washington will share his thoughts on the founding of our nation.\n\tSunday 2/17 - Teddy Roosevelt will share tales of the West.\n\tMonday 2/18 - Abraham Lincoln will recount his journey to the White House.\n
URL:https://www.lajajakids.com/en/event/kidspace%e7%b8%bd%e7%b5%b1%e6%97%a5/
LOCATION: 480 N. Arroyo Blvd\, Pasadena\, CA\, 91103\, United States
GEO:34.1554477;-118.1639971
X-APPLE-STRUCTURED-LOCATION;VALUE=URI;X-ADDRESS=480 N. Arroyo Blvd Pasadena CA 91103 United States;X-APPLE-RADIUS=500;X-TITLE=480 N. Arroyo Blvd:geo:-118.1639971,34.1554477
CATEGORIES:Red,JaJa’s Picks
ATTACH;FMTTYPE=image/jpeg:https://www.lajajakids.com/wp-content/uploads/2019/02/united-states-of-america-364545_960_720.jpg
END:VEVENT
END:VCALENDAR