BEGIN:VCALENDAR
VERSION:2.0
PRODID:-//La JaJa - ECPv4.3.4.1//NONSGML v1.0//EN
CALSCALE:GREGORIAN
METHOD:PUBLISH
X-WR-CALNAME:La JaJa
X-ORIGINAL-URL:https://www.lajajakids.com/en
X-WR-CALDESC:Events for La JaJa
BEGIN:VEVENT
DTSTART;VALUE=DATE:20191023
DTEND;VALUE=DATE:20191027
DTSTAMP:20260421T020247
CREATED:20191026T174403Z
LAST-MODIFIED:20191026T174603Z
UID:71982-1571788800-1572220799@www.lajajakids.com
SUMMARY:Carved
DESCRIPTION:6:30pm to 10:30pm\n\n\n\n\nCarved is a family-friendly Halloween event for all ages; visitors can enjoy a mile-long walk through Descanso's beautiful gardens and woods\, viewing more than 1\,000 jack-o’-lanterns carved from real pumpkins along the trail.\n\nThe event runs just five nights. Tickets go on sale October 1.\n\nSpecial jack-o’-lanterns feature popular themes like superheroes\, famous movie monsters\, and more. Along with pumpkins\, there are seasonal snacks\, live carving demonstrations\, and a few surprises.
URL:https://www.lajajakids.com/en/event/eng-carved/
LOCATION:1418 Descanso Dr\, La Cañada Flintridge\, CA\, United States
CATEGORIES:Yellow,JaJa’s Picks
ATTACH;FMTTYPE=image/jpeg:https://www.lajajakids.com/wp-content/uploads/2019/10/Carved-header-1400x400.jpg
END:VEVENT
END:VCALENDAR