BEGIN:VCALENDAR
VERSION:2.0
PRODID:-//La JaJa - ECPv4.3.4.1//NONSGML v1.0//EN
CALSCALE:GREGORIAN
METHOD:PUBLISH
X-WR-CALNAME:La JaJa
X-ORIGINAL-URL:https://www.lajajakids.com/en
X-WR-CALDESC:Events for La JaJa
BEGIN:VEVENT
DTSTART;VALUE=DATE:20180324
DTEND;VALUE=DATE:20180325
DTSTAMP:20260421T233045
CREATED:20180323T104249Z
LAST-MODIFIED:20180323T104249Z
UID:57934-1521849600-1522022399@www.lajajakids.com
SUMMARY:2018 Los Angeles County Air Show
DESCRIPTION:\n\n \n\nThe Los Angeles County Air Show features a full schedule of world renowned aerobatic performers from all over the country\, as well as skydivers and Warbirds.\n\nIn addition to the aerials\, LACAS is home to an interactive STEM exhibition\, extensive static displays\, a Kidâ€™s Zone\, Aeronautical Historical Panel\, and more.\nDate: Sat Mar 24\, 2018 - Sun Mar 25\, 2018\nTime: 9:00 am to 5:00 pm\nAge:Â All ages\nGate prices: \nAdults: $29\n Children (7 - 12): $15 ; \n(6 and under): Free. \nAdvance online prices $5 lower
URL:https://www.lajajakids.com/en/event/eng-2018-los-angeles-county-air-show/
LOCATION:4555 West Avenue G\, Lancaster\, CA\, 93536\, United States
GEO:34.7331717;-118.211333
X-APPLE-STRUCTURED-LOCATION;VALUE=URI;X-ADDRESS=4555 West Avenue G Lancaster CA 93536 United States;X-APPLE-RADIUS=500;X-TITLE=4555 West Avenue G:geo:-118.211333,34.7331717
CATEGORIES:Purple
END:VEVENT
END:VCALENDAR