BEGIN:VCALENDAR
VERSION:2.0
PRODID:-//La JaJa - ECPv4.3.4.1//NONSGML v1.0//EN
CALSCALE:GREGORIAN
METHOD:PUBLISH
X-WR-CALNAME:La JaJa
X-ORIGINAL-URL:https://www.lajajakids.com/en
X-WR-CALDESC:Events for La JaJa
BEGIN:VEVENT
DTSTART;VALUE=DATE:20190106
DTEND;VALUE=DATE:20190106
DTSTAMP:20260424T151306
CREATED:20170908T163205Z
LAST-MODIFIED:20190104T170624Z
UID:51708-1546732800-1546819199@www.lajajakids.com
SUMMARY:A Faery Hunt - Crestwood Hills Park
DESCRIPTION:Fairy Godmother Careen will take the audience on a gentle adventure through the gorgeous gardens to help fairies find the true King of Fairyland! Ages: 2-10 and the young at heart. $10 for members (adults and children) $15 for non-members (adults and children) includes admission\n\nA Faery Hunt\, the Nickelodeon winner for “Best Children’s Theater in Los Angeles” creates Fairyland by weaving their faery magic with original stories\, dancing and songs that will inspire the best in all of us. There is only gentle and silly fun in A Faery Hunt shows. There is nothing scary in our Faeryland.\n\nWhat a lovely way to spend a morning with the family\, outdoors in nature while inspiring the imaginations of everyone involved. All performances are outdoors except shows at the Sunset Theatre Company (which is indoors and outdoors). Children are encouraged to come in their favorite fairy\, princess or super hero costume! Maybe some of the parents would like to join in on the fun and come in costume too. Closed comfortable shoes\, sunscreen\, and water suggested for outdoor shows.\n\nA Faery Hunt offers exciting\, fun birthday parties. Birthday parties are welcome at all shows! Push the easy button and have your party with one of the scheduled shows or at your private event. Email us with any questions and or to make a reservation or hire us for a private party by clicking here A Faery Hunt email\n\n
URL:https://www.lajajakids.com/en/event/crestwood-hills%e5%85%ac%e5%9c%92%e6%8d%95%e6%8d%89%e4%bb%99%e5%ad%90/
LOCATION:1000 Hanley Avenue\, Los Angeles\, CA\, 90049\, United States
GEO:34.0768468;-118.4891025
X-APPLE-STRUCTURED-LOCATION;VALUE=URI;X-ADDRESS=1000 Hanley Avenue Los Angeles CA 90049 United States;X-APPLE-RADIUS=500;X-TITLE=1000 Hanley Avenue:geo:-118.4891025,34.0768468
CATEGORIES:Red,JaJa’s Picks
ATTACH;FMTTYPE=image/jpeg:https://www.lajajakids.com/wp-content/uploads/2017/09/thumb58ebedb071769.jpg
END:VEVENT
END:VCALENDAR