BEGIN:VCALENDAR
VERSION:2.0
PRODID:-//La JaJa - ECPv4.3.4.1//NONSGML v1.0//EN
CALSCALE:GREGORIAN
METHOD:PUBLISH
X-WR-CALNAME:La JaJa
X-ORIGINAL-URL:https://www.lajajakids.com/en
X-WR-CALDESC:Events for La JaJa
BEGIN:VEVENT
DTSTART;VALUE=DATE:20170923
DTEND;VALUE=DATE:20170924
DTSTAMP:20260423T112725
CREATED:20170922T030738Z
LAST-MODIFIED:20170922T030738Z
UID:52283-1506124800-1506297599@www.lajajakids.com
SUMMARY:Annie Oakley and the Princess Café
DESCRIPTION:Annie Oakley coming back to life in 2017? Impossible. But that’s exactly what happens as the legendary heroine comes to the aid of a single mom\, Kat\, and her daughters\, struggling to find a balance between the bottom-line temptations of modern living and the comforting solid roots of tradition.
URL:https://www.lajajakids.com/en/event/annie-oakley-%e9%9f%b3%e4%b9%90%e4%bc%9a/
LOCATION:1211 4th St.\, Santa Monica\, CA\, 90401\, United States
GEO:34.0189556;-118.4977074
X-APPLE-STRUCTURED-LOCATION;VALUE=URI;X-ADDRESS=1211 4th St. Santa Monica CA 90401 United States;X-APPLE-RADIUS=500;X-TITLE=1211 4th St.:geo:-118.4977074,34.0189556
CATEGORIES:Red,JaJa’s Picks
ATTACH;FMTTYPE=image/jpeg:https://www.lajajakids.com/wp-content/uploads/2017/09/00-smplayhouse-annie-oakley-and-the-princess-cafe-annie-s-girls_orig.jpg
END:VEVENT
END:VCALENDAR