BEGIN:VCALENDAR
VERSION:2.0
PRODID:-//La JaJa - ECPv4.3.4.1//NONSGML v1.0//EN
CALSCALE:GREGORIAN
METHOD:PUBLISH
X-WR-CALNAME:La JaJa
X-ORIGINAL-URL:https://www.lajajakids.com/en
X-WR-CALDESC:Events for La JaJa
BEGIN:VEVENT
DTSTART;VALUE=DATE:20180916
DTEND;VALUE=DATE:20180916
DTSTAMP:20260423T235013
CREATED:20170908T173050Z
LAST-MODIFIED:20180915T152759Z
UID:51748-1537056000-1537142399@www.lajajakids.com
SUMMARY:2018 Summer Sounds Free Concert Series
DESCRIPTION:Between July 9 and September 10\, the City of West Hollywood through WeHo Arts will present the 2018 Summer Sounds Free Concert Series\, which will take place outdoors throughout the summer in West Hollywood's public spaces.\nAll concerts are FREE to attend and start at 5 PM. RSVPs are not needed. Limited first come\, first serve seating will be available\, or alternately bring a picnic basket to enjoy the show.\nUpcoming Shows:\nJune 24: Mariachi Arcoiris de Los Angeles (The World’s First and Only LGBTQ Mariachi!) Plummer Park\n\nJuly 22: Jungle Fire (Afro / Latin / Funk) Plummer Park\nAugust 19: The Lady Lucks (All Female Swing Band ) Kings Road Park\nSeptember 16: Carol Bach-y-Rita  (Brazilian / Jazz) Kings Road Park
URL:https://www.lajajakids.com/en/event/2017%e5%a5%bd%e8%90%8a%e5%a1%a2%e6%88%b6%e5%a4%96%e9%9f%b3%e6%a8%82%e7%b3%bb%e5%88%97/
LOCATION:7377 Santa Monica Blvd.\, West Hollywood\, CA\, United States
GEO:34.0913439;-118.3508336
X-APPLE-STRUCTURED-LOCATION;VALUE=URI;X-ADDRESS=7377 Santa Monica Blvd. West Hollywood CA United States;X-APPLE-RADIUS=500;X-TITLE=7377 Santa Monica Blvd.:geo:-118.3508336,34.0913439
CATEGORIES:Red,JaJa’s Picks
ATTACH;FMTTYPE=image/jpeg:https://www.lajajakids.com/wp-content/uploads/2017/09/1497383215-Summer_Sounds_tickets.jpg
END:VEVENT
END:VCALENDAR