BEGIN:VCALENDAR
VERSION:2.0
PRODID:-//La JaJa - ECPv4.3.4.1//NONSGML v1.0//EN
CALSCALE:GREGORIAN
METHOD:PUBLISH
X-WR-CALNAME:La JaJa
X-ORIGINAL-URL:https://www.lajajakids.com/en
X-WR-CALDESC:Events for La JaJa
BEGIN:VEVENT
DTSTART;VALUE=DATE:20181027
DTEND;VALUE=DATE:20181027
DTSTAMP:20260423T202120
CREATED:20181026T222710Z
LAST-MODIFIED:20181026T222710Z
UID:64261-1540598400-1540684799@www.lajajakids.com
SUMMARY:Halloween and Mourning Tour
DESCRIPTION:14th Annual Halloween & Mourning Tours\,Â Saturday and Sunday\, October 28 and 29\, 12 to 4 pm. Learn all about death and mourning etiquette during the Victorian era\, the movement of Spiritualism\, and how other cultures celebrate and remember their loved. The program is more family friendly onÂ SundayÂ (only)\, as children ages 2 to 12 may come play period games\, make 19thÂ century harvest crafts\, trick or treat and listen to spooky stories. $20 for Adults\, $15 for Seniors over 65\, $8 for Children 6 to 12 years. Free for Children under 6 and Museum members.Â http://heritagesquaremourning.brownpapertickets.com\n\n 
URL:https://www.lajajakids.com/en/event/14%e5%b1%86%e5%a5%bd%e8%90%8a%e5%a1%a2%e6%99%a8%e5%85%89%e4%b9%8b%e6%97%85/
LOCATION:3800 Homer Street\, Los Angeles\, CA\, 90031\, United States
GEO:34.0882339;-118.2079559
X-APPLE-STRUCTURED-LOCATION;VALUE=URI;X-ADDRESS=3800 Homer Street Los Angeles CA 90031 United States;X-APPLE-RADIUS=500;X-TITLE=3800 Homer Street:geo:-118.2079559,34.0882339
CATEGORIES:Red,JaJaâ€™s Picks
ATTACH;FMTTYPE=image/jpeg:https://www.lajajakids.com/wp-content/uploads/2018/10/MourningTourPix3.jpg
END:VEVENT
END:VCALENDAR