BEGIN:VCALENDAR
VERSION:2.0
PRODID:-//La JaJa - ECPv4.3.4.1//NONSGML v1.0//EN
CALSCALE:GREGORIAN
METHOD:PUBLISH
X-WR-CALNAME:La JaJa
X-ORIGINAL-URL:https://www.lajajakids.com/en
X-WR-CALDESC:Events for La JaJa
BEGIN:VEVENT
DTSTART;VALUE=DATE:20190302
DTEND;VALUE=DATE:20190303
DTSTAMP:20260423T100735
CREATED:20180302T224954Z
LAST-MODIFIED:20190301T192504Z
UID:57219-1551484800-1551657599@www.lajajakids.com
SUMMARY:Dana Point Festival of Whales
DESCRIPTION:Join us for two fun-filled weekends\, March 2 & 3\, 2019 as we celebrate our 48th anniversary.\n\nthe festival will also include a Mobile Marine Mammal Museum\, a cardboard Dingy Dash\, the Ocean Institute-Ocean Education Center\, and a rubber ducky race. Kids can take boat rides and SUP lessons\, participate in sand sculpting\, and watch movies under the stars.  Bands perform on the water on a specially designed stage for the Concert on the Water.
URL:https://www.lajajakids.com/en/event/%e9%af%a8%e9%ad%9a%e8%a7%80%e8%b3%9e%e5%a4%a7%e6%9c%83/
LOCATION:Golden Lantern\, Dana Point\, CA\, United States
GEO:33.5015765;-117.6925624
X-APPLE-STRUCTURED-LOCATION;VALUE=URI;X-ADDRESS=Golden Lantern Dana Point CA United States;X-APPLE-RADIUS=500;X-TITLE=Golden Lantern:geo:-117.6925624,33.5015765
CATEGORIES:Red,JaJa’s Picks
ATTACH;FMTTYPE=image/jpeg:https://www.lajajakids.com/wp-content/uploads/2018/03/Dana-Point-Festival-of-Whales-1052x526.jpg
END:VEVENT
END:VCALENDAR