BEGIN:VCALENDAR
VERSION:2.0
PRODID:-//La JaJa - ECPv4.3.4.1//NONSGML v1.0//EN
CALSCALE:GREGORIAN
METHOD:PUBLISH
X-WR-CALNAME:La JaJa
X-ORIGINAL-URL:https://www.lajajakids.com/en
X-WR-CALDESC:Events for La JaJa
BEGIN:VEVENT
DTSTART;VALUE=DATE:20170603
DTEND;VALUE=DATE:20170603
DTSTAMP:20260422T222519
CREATED:20170602T231400Z
LAST-MODIFIED:20170602T231400Z
UID:42341-1496448000-1496534399@www.lajajakids.com
SUMMARY:Hot Wheels Garage
DESCRIPTION:\n\n\n\nHot WheelsÂ® Garage features displays of life-size cars and numerous Hot WheelsÂ® tracks and cars to race with.In addition\, a face painter and balloon artist will also be available for the kidâ€™s enjoyment. The ADM will also be featuring a special $2.00 kidâ€™s sundae in the Ice Cream Station ice cream parlor.\n\nEach month Hot Wheels Garage supports a local community group. Your donation can be exchanged for a raffle ticket in our raffle.\n\n\n\nJUNE 3RD\, 2017 10AM-1PM\nUpcoming Hot Wheels Garage Events:\n\n\nAUGUST 5TH\nOCTOBER 7TH\nDECEMBER 2ND\n\n\nADMISSION BY DONATION\nHot Wheels Garage entrance fee includes admission to the Main ADM Building.\n\nAdults â€“ $10\nSeniors (62 and older) â€“ $8\nChildren 10-17 â€“ $5\nChildren under 10 â€“ Free\nFamily of Four â€“ $25\nSponsors (Join Now) â€“ Free\n\n \n\n\n\nGallery of Past Events (Life-Sized Hot Wheels on display vary between events.)\n\n \n\n
URL:https://www.lajajakids.com/en/event/%e9%a2%a8%e7%81%ab%e8%bc%aa%e5%a4%a7%e6%af%94%e6%8b%bc/
LOCATION:610 Lairport St\, El Segundo\, CA\, 90245\, United States
GEO:33.9247131;-118.3922325
X-APPLE-STRUCTURED-LOCATION;VALUE=URI;X-ADDRESS=610 Lairport St El Segundo CA 90245 United States;X-APPLE-RADIUS=500;X-TITLE=610 Lairport St:geo:-118.3922325,33.9247131
ATTACH;FMTTYPE=image/png:https://www.lajajakids.com/wp-content/uploads/2017/06/hotwheels-june-3rd-slider-3-768x473.png
END:VEVENT
END:VCALENDAR