BEGIN:VCALENDAR
VERSION:2.0
PRODID:-//La JaJa - ECPv4.3.4.1//NONSGML v1.0//EN
CALSCALE:GREGORIAN
METHOD:PUBLISH
X-WR-CALNAME:La JaJa
X-ORIGINAL-URL:https://www.lajajakids.com/en
X-WR-CALDESC:Events for La JaJa
BEGIN:VEVENT
DTSTART;VALUE=DATE:20170701
DTEND;VALUE=DATE:20170701
DTSTAMP:20260423T090025
CREATED:20170701T020328Z
LAST-MODIFIED:20170701T020329Z
UID:45476-1498867200-1498953599@www.lajajakids.com
SUMMARY:Independence day celebration with our founding fathers
DESCRIPTION:10 a.m. to 4 p.m.\n\n\nThe 4th of July isnâ€™t just about fireworks and hot dogs (although theyâ€™re both awesome) â€“ so the Printing Press Museum helps us celebrate Independence Day with some founding fathers\, otherwise known as The Confounding Brothers! Ben Franklin\, John Adams\, and Thomas Jefferson will give a humorous and thought provoking account of the creation of The Declaration of Independence and how our nation came to be. (Play suitable for 5th grade and up.) The all-day event for the whole family includes special tours of the Museumâ€™s working collection\, an opportunity to print the Declaration of Independence on a colonial press\, and the chance to print patriotic keepsakes on the antique printing presses.\n\nOh yes\, there will also be hot dogs! Madame Brillonâ€™s French Garden will offer up a revolutionary repast (All-American Hot Dogs\, French Apple Pie\, and Colonial Punch).\n\n\n 
URL:https://www.lajajakids.com/en/event/%e9%96%8b%e5%9c%8b%e5%85%83%e5%8b%b3%e7%b4%80%e5%bf%b5%e6%b4%bb%e5%8b%95/
LOCATION:315 W. Torrance Blvd\, Carson\, CA\, United States
GEO:33.8423643;-118.2822856
X-APPLE-STRUCTURED-LOCATION;VALUE=URI;X-ADDRESS=315 W. Torrance Blvd Carson CA United States;X-APPLE-RADIUS=500;X-TITLE=315 W. Torrance Blvd:geo:-118.2822856,33.8423643
CATEGORIES:Yellow,JaJaâ€™s Picks
ATTACH;FMTTYPE=image/jpeg:https://www.lajajakids.com/wp-content/uploads/2017/06/print.jpg
END:VEVENT
END:VCALENDAR