BEGIN:VCALENDAR
VERSION:2.0
PRODID:-//La JaJa - ECPv4.3.4.1//NONSGML v1.0//EN
CALSCALE:GREGORIAN
METHOD:PUBLISH
X-WR-CALNAME:La JaJa
X-ORIGINAL-URL:https://www.lajajakids.com/en
X-WR-CALDESC:Events for La JaJa
BEGIN:VEVENT
DTSTART;VALUE=DATE:20180310
DTEND;VALUE=DATE:20180310
DTSTAMP:20260419T232823
CREATED:20180310T002016Z
LAST-MODIFIED:20180310T002016Z
UID:57496-1520640000-1520726399@www.lajajakids.com
SUMMARY:Free Kindergarten Festival in Long Beach
DESCRIPTION:Registration begins at 8:45\, workshops begin at 9:20\, 10:10\, and 11 AM. Every parent that attends at least two workshops will receive a free backpack filled with school supplies. All incoming kindergarten students receive free dental screenings\, a book\, and arts and crafts play. A child activity room is available so parents can attend the workshops.\n\n(We recommend you bring a snack for your child. It is a 3 hour event.
URL:https://www.lajajakids.com/en/event/%e9%95%b7%e7%81%98%e5%85%92%e7%ab%a5%e5%85%8d%e8%b2%bb%e9%96%8b%e6%94%be%e6%97%a5/
LOCATION:5610 E Monlaco Rd\,\, Long Beach\, CA\, United States
GEO:33.8211761;-118.1222607
X-APPLE-STRUCTURED-LOCATION;VALUE=URI;X-ADDRESS=5610 E Monlaco Rd Long Beach CA United States;X-APPLE-RADIUS=500;X-TITLE=5610 E Monlaco Rd\,:geo:-118.1222607,33.8211761
CATEGORIES:Red,JaJa’s Picks
ATTACH;FMTTYPE=image/jpeg:https://www.lajajakids.com/wp-content/uploads/2018/03/dragqueen-story-hour.jpg
END:VEVENT
END:VCALENDAR