BEGIN:VCALENDAR
VERSION:2.0
PRODID:-//La JaJa - ECPv4.3.4.1//NONSGML v1.0//EN
CALSCALE:GREGORIAN
METHOD:PUBLISH
X-WR-CALNAME:La JaJa
X-ORIGINAL-URL:https://www.lajajakids.com/en
X-WR-CALDESC:Events for La JaJa
BEGIN:VEVENT
DTSTART;VALUE=DATE:20180714
DTEND;VALUE=DATE:20180714
DTSTAMP:20260423T202154
CREATED:20180713T204933Z
LAST-MODIFIED:20180713T204933Z
UID:61702-1531526400-1531612799@www.lajajakids.com
SUMMARY:Summer Concerts in the Park: Saturday Concerts
DESCRIPTION:2018 Schedule:\n\nJuly 7: Nolan Shaheed Quintet\, Jazz Band\nJuly 14: Bumptown\, Old School/Disco/Latin Band\nJuly 21:  Ocho-X\, Jazz Band\nJuly 28:  The Answer\, Classic Rock Band\nAugust 4:  Upstream\, Reggae Band\nAugust 11: Cold Duck\, Motown/Soul Band\nAugust 18:  Kelley Huff Band\, Country Band\nAugust 25:  Boxcar 7\, Jazz Band
URL:https://www.lajajakids.com/en/event/%e9%80%b1%e5%85%ad%e5%85%ac%e5%9c%92%e6%bc%94%e5%94%b1%e8%a1%a8%e6%bc%94/
LOCATION:1601 South Myrtle Ave.\, Monrovia\, CA\, 91016\, United States
GEO:34.134002;-118.001338
X-APPLE-STRUCTURED-LOCATION;VALUE=URI;X-ADDRESS=1601 South Myrtle Ave. Monrovia CA 91016 United States;X-APPLE-RADIUS=500;X-TITLE=1601 South Myrtle Ave.:geo:-118.001338,34.134002
CATEGORIES:Red,JaJa’s Picks
ATTACH;FMTTYPE=image/jpeg:https://www.lajajakids.com/wp-content/uploads/2018/07/MB15.jpg
END:VEVENT
END:VCALENDAR