BEGIN:VCALENDAR
VERSION:2.0
PRODID:-//La JaJa - ECPv4.3.4.1//NONSGML v1.0//EN
CALSCALE:GREGORIAN
METHOD:PUBLISH
X-WR-CALNAME:La JaJa
X-ORIGINAL-URL:https://www.lajajakids.com/en
X-WR-CALDESC:Events for La JaJa
BEGIN:VEVENT
DTSTART;VALUE=DATE:20181124
DTEND;VALUE=DATE:20181124
DTSTAMP:20260419T213349
CREATED:20180317T014710Z
LAST-MODIFIED:20181123T035431Z
UID:57815-1543017600-1543103999@www.lajajakids.com
SUMMARY:Disney Junior Dance Party On Tour - Hollywood
DESCRIPTION:Are you ready to DANCE?!? Disney Junior Dance Party On Tour Presented by Pull-Ups® Training Pants! is an ALL NEW interactive live concert experience. Sing and dance along to Disney Junior’s greatest hits with your favorite characters. Kids of all ages and their families are all invited to the biggest dance party around!\n\nThe Disney Junior Dance Party features:\n- Live appearances by Mickey\, Minnie\, Goofy\, Vampirina\, Elena of Avalor\, Sofia the First\, and Doc McStuffins!\n- Magical on screen moments with Puppy Dog Pals\, Muppet Babies\, and the Lion Guard!\n
URL:https://www.lajajakids.com/en/event/%e8%bf%aa%e5%a3%ab%e5%b0%bc%e9%9d%92%e5%b0%91%e5%b9%b4%e8%88%9e%e6%9c%83%e6%b4%be%e5%b0%8d/
LOCATION:6801 Hollywood Blvd.\, Hollywood\, CA\, 90028\, United States
GEO:34.1021467;-118.3403645
X-APPLE-STRUCTURED-LOCATION;VALUE=URI;X-ADDRESS=6801 Hollywood Blvd. Hollywood CA 90028 United States;X-APPLE-RADIUS=500;X-TITLE=6801 Hollywood Blvd.:geo:-118.3403645,34.1021467
CATEGORIES:Red,JaJa’s Picks
ATTACH;FMTTYPE=image/jpeg:https://www.lajajakids.com/wp-content/uploads/2018/03/maxresdefault2.jpg
END:VEVENT
END:VCALENDAR