BEGIN:VCALENDAR
VERSION:2.0
PRODID:-//La JaJa - ECPv4.3.4.1//NONSGML v1.0//EN
CALSCALE:GREGORIAN
METHOD:PUBLISH
X-WR-CALNAME:La JaJa
X-ORIGINAL-URL:https://www.lajajakids.com/en
X-WR-CALDESC:Events for La JaJa
BEGIN:VEVENT
DTSTART;VALUE=DATE:20180110
DTEND;VALUE=DATE:20180331
DTSTAMP:20260423T202156
CREATED:20180120T185450Z
LAST-MODIFIED:20180120T185550Z
UID:55947-1515542400-1522540799@www.lajajakids.com
SUMMARY:Disney's Aladdin Musical
DESCRIPTION:From the producer of The Lion King comes the timeless story of Disney's ALADDIN\, a thrilling new production filled with unforgettable beauty\, magic\, comedy and breathtaking spectacle. It’s an extraordinary theatrical event where one lamp and three wishes make the possibilities infinite.\n\nHailed by USA Today as “Pure Genie-Us\,” ALADDIN features all your favorite songs from the film as well as new music written by Tony® and Academy Award® winner Alan Menken (Newsies) with lyrics penned by the legendary Howard Ashman (Beauty and the Beast)\, Tony Award winner Tim Rice (The Lion King\, Aida)\, and book writer Chad Beguelin (The Wedding Singer).\n\nAge Recommendation\nRecommended for ages 6 and up.  Everyone is welcome and must have a ticket.\nRunning Time\n2 Hours and 30 Minutes (Including Intermission)\n\n\n\n\n\n\n\n\n
URL:https://www.lajajakids.com/en/event/%e8%bf%aa%e5%a3%ab%e5%b0%bc%e9%98%bf%e6%8b%89%e4%b8%81%e9%9f%b3%e6%a8%82%e5%8a%87/
LOCATION:6233 Hollywood Boulevard\, Hollywood\, CA\, 90028\, United States
GEO:34.102001;-118.325867
X-APPLE-STRUCTURED-LOCATION;VALUE=URI;X-ADDRESS=6233 Hollywood Boulevard Hollywood CA 90028 United States;X-APPLE-RADIUS=500;X-TITLE=6233 Hollywood Boulevard:geo:-118.325867,34.102001
CATEGORIES:Green,JaJa’s Picks
ATTACH;FMTTYPE=image/jpeg:https://www.lajajakids.com/wp-content/uploads/2018/01/ala1.jpg
END:VEVENT
END:VCALENDAR