BEGIN:VCALENDAR
VERSION:2.0
PRODID:-//La JaJa - ECPv4.3.4.1//NONSGML v1.0//EN
CALSCALE:GREGORIAN
METHOD:PUBLISH
X-WR-CALNAME:La JaJa
X-ORIGINAL-URL:https://www.lajajakids.com/en
X-WR-CALDESC:Events for La JaJa
BEGIN:VEVENT
DTSTART;VALUE=DATE:20190202
DTEND;VALUE=DATE:20190202
DTSTAMP:20260423T012138
CREATED:20180210T161100Z
LAST-MODIFIED:20190131T213305Z
UID:56625-1549065600-1549151999@www.lajajakids.com
SUMMARY:Lunar New Year Festival
DESCRIPTION:Join the Port of Los Angeles in celebrating the fifth annual Lunar New Year Festival\, this year\, at Cabrillo Marine Aquarium on the LA Waterfront. 2019 is the year of the pig! This free cultural festival offers free parking\, free admission\, and free entertainment\, including face painting\, crafts\, a petting zoo and fireworks finale! A rain or shine community event.
URL:https://www.lajajakids.com/en/event/%e8%be%b2%e6%9b%86%e6%96%b0%e5%b9%b4%e5%a4%a7%e6%9c%83/
LOCATION:3720 Stephen M. White Dr\, San Pedro\, CA\, 90731\, United States
GEO:33.7113702;-118.2856603
X-APPLE-STRUCTURED-LOCATION;VALUE=URI;X-ADDRESS=3720 Stephen M. White Dr San Pedro CA 90731 United States;X-APPLE-RADIUS=500;X-TITLE=3720 Stephen M. White Dr:geo:-118.2856603,33.7113702
CATEGORIES:Red,JaJa’s Picks
ATTACH;FMTTYPE=image/jpeg:https://www.lajajakids.com/wp-content/uploads/2018/02/4d992c8b05dd319e9c12222a91a5e19a.jpg
END:VEVENT
END:VCALENDAR