BEGIN:VCALENDAR
VERSION:2.0
PRODID:-//La JaJa - ECPv4.3.4.1//NONSGML v1.0//EN
CALSCALE:GREGORIAN
METHOD:PUBLISH
X-WR-CALNAME:La JaJa
X-ORIGINAL-URL:https://www.lajajakids.com/en
X-WR-CALDESC:Events for La JaJa
BEGIN:VEVENT
DTSTART;VALUE=DATE:20190216
DTEND;VALUE=DATE:20190216
DTSTAMP:20260419T214325
CREATED:20181005T200255Z
LAST-MODIFIED:20190215T232625Z
UID:63770-1550275200-1550361599@www.lajajakids.com
SUMMARY:Poetry Workshop: Learning To Write A Poem
DESCRIPTION:\nDate:\nOctober 6\, 2018\n\n\nTime:\n11:00 AM - 12:00 PM\n\n\n\n\nLocation:\n\nBarth Community Room\n\n\n\nAddress:\nCrowell Public Library\n1890 Huntington Drive\nSan Marino\, CA 91108\n\nHope Anita Smith leads a poetry workshop\n\n
URL:https://www.lajajakids.com/en/event/%e8%a9%a9%e7%8f%ad-3-5%e5%b9%b4%e7%b4%9a/
LOCATION:10580 1/2 Pico Blvd.\, Los Angeles\, CA\, 90064\, United States
GEO:34.0433793;-118.4226656
X-APPLE-STRUCTURED-LOCATION;VALUE=URI;X-ADDRESS=10580 1/2 Pico Blvd. Los Angeles CA 90064 United States;X-APPLE-RADIUS=500;X-TITLE=10580 1/2 Pico Blvd.:geo:-118.4226656,34.0433793
CATEGORIES:Red,JaJa’s Picks
ATTACH;FMTTYPE=image/jpeg:https://www.lajajakids.com/wp-content/uploads/2018/10/img_0282.jpg
END:VEVENT
END:VCALENDAR