BEGIN:VCALENDAR
VERSION:2.0
PRODID:-//La JaJa - ECPv4.3.4.1//NONSGML v1.0//EN
CALSCALE:GREGORIAN
METHOD:PUBLISH
X-WR-CALNAME:La JaJa
X-ORIGINAL-URL:https://www.lajajakids.com/en
X-WR-CALDESC:Events for La JaJa
BEGIN:VEVENT
DTSTART;VALUE=DATE:20170603
DTEND;VALUE=DATE:20170603
DTSTAMP:20260421T140617
CREATED:20170602T234028Z
LAST-MODIFIED:20170602T234028Z
UID:42354-1496448000-1496534399@www.lajajakids.com
SUMMARY:Public Star Parties
DESCRIPTION:2:00 p.m. to 9:45 p.m.\n\nFree public star parties are held monthly with the assistance of the Los Angeles Astronomical Society and the Los Angeles Sidewalk Astronomers.  These are a chance for the whole family to look at the sun\, moon\, visible planets\, and other objects\, to try out a variety of telescopes\, and to talk to knowledgeable amateur astronomers about the sky and their equipment.\n\nPlease be aware that the astronomers and telescope demonstrators must cut off the line for each telescope to enable all viewing to be completed by 9:45 p.m. Hours for telescope operation are not the same as for the building (which closes at 10:00 p.m.).\n\nFree Public Star Parties @ Griffith Observatory\nhttp://www.griffithobs.org/pstarparties.html
URL:https://www.lajajakids.com/en/event/%e8%a7%80%e6%98%9f%e8%a6%aa%e5%ad%90%e6%b4%be%e5%b0%8d/
LOCATION:2800 East Observatory Road\,  Los Angeles\, CA\, 90027 \, United States
GEO:34.1182089;-118.3003783
X-APPLE-STRUCTURED-LOCATION;VALUE=URI;X-ADDRESS=2800 East Observatory Road  Los Angeles CA 90027  United States;X-APPLE-RADIUS=500;X-TITLE=2800 East Observatory Road:geo:-118.3003783,34.1182089
ATTACH;FMTTYPE=image/jpeg:https://www.lajajakids.com/wp-content/uploads/2017/06/GO_MtHollywood_frontlawn_crowds_star_party_20090926_DavePins1.jpg
END:VEVENT
END:VCALENDAR