BEGIN:VCALENDAR
VERSION:2.0
PRODID:-//La JaJa - ECPv4.3.4.1//NONSGML v1.0//EN
CALSCALE:GREGORIAN
METHOD:PUBLISH
X-WR-CALNAME:La JaJa
X-ORIGINAL-URL:https://www.lajajakids.com/en
X-WR-CALDESC:Events for La JaJa
BEGIN:VEVENT
DTSTART;VALUE=DATE:20170917
DTEND;VALUE=DATE:20170917
DTSTAMP:20260420T024048
CREATED:20170915T185955Z
LAST-MODIFIED:20170915T185955Z
UID:51969-1505606400-1505692799@www.lajajakids.com
SUMMARY:Family Art Workshop
DESCRIPTION:\nBARNSDALL ART SUNDAYS\nArt Workshops Every Sunday from 10am – 12pm at the Junior Arts CenterBarnsdall Arts/FOJAC and the Barnsdall Art Park Foundation offer free art workshops every Sunday\, bringing back the tradition of the park’s “Sundays Open Sundays” free art classes from years past.\nIn these times of school and municipal budget cuts\, the Barnsdall Art Park Foundation has chosen to fund this program because it is a rare opportunity for kids in our community to receive free arts education. Please come by and join the growing numbers of families who are taking part!A great activity for kids and families!\n\nWHEN: EVERY SUNDAY 10AM – 12PM\n\nWHERE: JAC Studio 1\, Barnsdall Art Park\, 4800 Hollywood Blvd\, LA CA 90027\n\nWHAT TO BRING: Nothing! All materials will be provided.\nUpcoming workshops:\nAug 6\, India: Jataka Tales – Starfish Paintings\n\nAug 13\, Japan: Koi Kites\n\nAug 20\, USA: Hopi Feathered Sun – for solar eclipse\n\nAug 27\, France/USA – Niki de Saint Phalle – Constructions\n\nSept 3\, Mexico: Huichol Beaded Clay Masks\n\nSept 10\, Peru: Inca Sun Disc – Metal Foil\n\nSept 17\, Aztec: Sun Stone: Tonatiuh Sun God\n\nSept 24\, Chile: Arpilleras Art and Protest\n\nOct 1\, China: Autumn Festival Lantern and sweet treats\n\n
URL:https://www.lajajakids.com/en/event/%e8%a6%aa%e5%ad%90%e6%a8%82%e5%ae%b6%e5%ba%ad%e8%97%9d%e8%a1%93%e6%97%a5/
LOCATION:4800 Hollywood Blvd.\, Los Angeles\, CA\, 90027\, United States
GEO:34.1003674;-118.29433
X-APPLE-STRUCTURED-LOCATION;VALUE=URI;X-ADDRESS=4800 Hollywood Blvd. Los Angeles CA 90027 United States;X-APPLE-RADIUS=500;X-TITLE=4800 Hollywood Blvd.:geo:-118.29433,34.1003674
CATEGORIES:Red,JaJa’s Picks
ATTACH;FMTTYPE=image/jpeg:https://www.lajajakids.com/wp-content/uploads/2017/09/family-art-workshops-at-arkansas-arts-center-740.jpg
END:VEVENT
END:VCALENDAR