BEGIN:VCALENDAR
VERSION:2.0
PRODID:-//La JaJa - ECPv4.3.4.1//NONSGML v1.0//EN
CALSCALE:GREGORIAN
METHOD:PUBLISH
X-WR-CALNAME:La JaJa
X-ORIGINAL-URL:https://www.lajajakids.com/en
X-WR-CALDESC:Events for La JaJa
BEGIN:VEVENT
DTSTART;VALUE=DATE:20180915
DTEND;VALUE=DATE:20180915
DTSTAMP:20260424T145510
CREATED:20180914T161129Z
LAST-MODIFIED:20180914T161129Z
UID:63313-1536969600-1537055999@www.lajajakids.com
SUMMARY:Hispanic Heritage Month Festival
DESCRIPTION:September 15 to October 15 is National Hispanic Heritage Month \nThe Library of Congress\, National Archives and Records Administration\, National Endowment for the Humanities\, National Gallery of Art\, National Park Service\, Smithsonian Institution and United States Holocaust Memorial Museum join in paying tribute to the generations of Hispanic Americans who have positively influenced and enriched our nation and society.
URL:https://www.lajajakids.com/en/event/%e8%a5%bf%e7%8f%ad%e7%89%99%e6%85%b6%e6%9c%88%e7%a6%ae/
LOCATION:2201 Pico Blvd.\, Santa Monica\, CA\, United States
CATEGORIES:Red,JaJa’s Picks
ATTACH;FMTTYPE=image/jpeg:https://www.lajajakids.com/wp-content/uploads/2018/09/mexican-singer.jpg
END:VEVENT
END:VCALENDAR