BEGIN:VCALENDAR
VERSION:2.0
PRODID:-//La JaJa - ECPv4.3.4.1//NONSGML v1.0//EN
CALSCALE:GREGORIAN
METHOD:PUBLISH
X-WR-CALNAME:La JaJa
X-ORIGINAL-URL:https://www.lajajakids.com/en
X-WR-CALDESC:Events for La JaJa
BEGIN:VEVENT
DTSTART;VALUE=DATE:20180907
DTEND;VALUE=DATE:20180907
DTSTAMP:20260422T134751
CREATED:20170801T025315Z
LAST-MODIFIED:20180907T210059Z
UID:49530-1536278400-1536364799@www.lajajakids.com
SUMMARY:Family Day: Kids for Peace
DESCRIPTION:\n\nSATURDAY SEP 8\, 2018 11:00AM TO 3:00PM \n\n\n\n\n\n\nMake art\, spread peace. Our free annual family festival fills the museum with art\, music\, performances\, and more. The Grilled Cheese Truck and Cafe Vietnam Truck will have food for sale.\n\nNote that the galleries will be closed\, but there will be several outdoor works on view.\n\n\tEnjoy an interactive musical storytelling session with Baba the Storyteller.\n\tCelebrate the rich history of protest quilts by making your own with Diedrick Brackens.\n\tMake wishes for our planet and cast them into a giant fishing net with Carolina Caycedo.\n\tMake a garden that moves with Beatriz Cortez.\n\tMake a print with Olga Koumoundouros that celebrates your neighborhood and community.\n\tGet in the groove with Lula Washington Youth Dance Ensemble and celebrate family through dance and culture.\n\tMake a song book about solidarity with Public Fiction\, in collaboration with Camille Mackler\, Director of Immigration Legal Policy at New York Immigration Coalition (NYIC).\n\tJoin Shizu Saldamando in tracing a portrait of your loved one and declaring what makes them special.\n\tExperience an interactive puppetry performance full of fantasy and funnies with Audrey Densmore and Jared Ramirez.\n\tHelp Comfort Campaign and Miry’s List make welcome signs and drawings for newly arrived refugee children.\n\tHear youth from Street Poets\, Inc. harness the healing power of poetry.\n\tMusic courtesy of Wild Dreams.\n\tSpread cotton candy love with LoveSwirls.\n\tEnjoy the guitar and ukulele tunes of Noah James & Brendan Brandt.\n\n\n\nVOLUNTEER OPPORTUNITY\nWant to work alongside Los Angeles artists in a dynamic festival setting? Volunteer to support workshops and other activities at Family Day.\n\n\n\n
URL:https://www.lajajakids.com/en/event/%e8%97%9d%e8%a1%93%e7%9a%84%e7%a4%be%e4%ba%a4%e9%ad%85%e5%8a%9b/
LOCATION:10899 Wilshire Blvd\, Los Angeles\, CA\, 90024\, United States
GEO:34.0591217;-118.4436674
X-APPLE-STRUCTURED-LOCATION;VALUE=URI;X-ADDRESS=10899 Wilshire Blvd Los Angeles CA 90024 United States;X-APPLE-RADIUS=500;X-TITLE=10899 Wilshire Blvd:geo:-118.4436674,34.0591217
CATEGORIES:Red,JaJa’s Picks
ATTACH;FMTTYPE=image/jpeg:https://www.lajajakids.com/wp-content/uploads/2017/07/csm_29992367736_a6e8f5e3c3_o_f217c944a5.jpg
END:VEVENT
END:VCALENDAR