BEGIN:VCALENDAR
VERSION:2.0
PRODID:-//La JaJa - ECPv4.3.4.1//NONSGML v1.0//EN
CALSCALE:GREGORIAN
METHOD:PUBLISH
X-WR-CALNAME:La JaJa
X-ORIGINAL-URL:https://www.lajajakids.com/en
X-WR-CALDESC:Events for La JaJa
BEGIN:VEVENT
DTSTART;VALUE=DATE:20181027
DTEND;VALUE=DATE:20181028
DTSTAMP:20260420T010739
CREATED:20181026T150856Z
LAST-MODIFIED:20181026T150856Z
UID:64198-1540598400-1540771199@www.lajajakids.com
SUMMARY:Pageant of the Monsters
DESCRIPTION:Just when you thought it was safe to go backstage the Festival of Arts and Pageant of the Masters brings a monster of a good time back to Laguna Beach!\nOnly returning to the Festival grounds every five years\, the Pageant of the Monsters will offer attendees a frightfully fun time with ghoulish tricks and treats October 26\, 27\, 28 and 31\, 2018.\n\nResurrecting an event from years past\, the Pageant’s backstage will transform into a haunted house with an artistic twist. Themed Raiders of the Lost Art\, join “Cincinnati Smith” on a treasure “haunt” through the workshop labyrinths and behind-the-scenes catacombs. The Festival of Arts grounds will be filled with halloween-themed art activities\, music\, and other “spook-tacular” surprises.\n\nThis event is not recommended for children under 5 years of age. Funds for this event are provided in part by the lodging establishments and the City of Laguna Beach.
URL:https://www.lajajakids.com/en/event/%e8%90%ac%e8%81%96%e7%af%80%e4%b9%8b%e4%bc%81%e9%b5%9d%e6%80%aa%e7%89%a9/
LOCATION:650 Laguna Canyon Road\, Laguna Beach\, CA\, 92651\, United States
GEO:33.5477247;-117.7824032
X-APPLE-STRUCTURED-LOCATION;VALUE=URI;X-ADDRESS=650 Laguna Canyon Road Laguna Beach CA 92651 United States;X-APPLE-RADIUS=500;X-TITLE=650 Laguna Canyon Road:geo:-117.7824032,33.5477247
CATEGORIES:Red,JaJa’s Picks
ATTACH;FMTTYPE=image/jpeg:https://www.lajajakids.com/wp-content/uploads/2018/10/kpkwqk-24lbmonsters1large.jpg
END:VEVENT
END:VCALENDAR