BEGIN:VCALENDAR
VERSION:2.0
PRODID:-//La JaJa - ECPv4.3.4.1//NONSGML v1.0//EN
CALSCALE:GREGORIAN
METHOD:PUBLISH
X-WR-CALNAME:La JaJa
X-ORIGINAL-URL:https://www.lajajakids.com/en
X-WR-CALDESC:Events for La JaJa
BEGIN:VEVENT
DTSTART;VALUE=DATE:20190406
DTEND;VALUE=DATE:20190406
DTSTAMP:20260422T045646
CREATED:20180405T214019Z
LAST-MODIFIED:20190406T012031Z
UID:58413-1554508800-1554595199@www.lajajakids.com
SUMMARY:Shakespeare Day
DESCRIPTION:\n\nThe Huntington celebrates William Shakespeare’s birth month with a day of music\, drama\, comedy\, and romance.\n\nPerformers from LA Opera and the Guild of St. George perform scenes and songs from some of the Bard's most beloved plays in locations throughout the grounds.\n\nGuests can get into the act with some family-friendly craft activities. Visitors can also view The Huntington’s rare “First Folio” edition of Shakespeare’s collected plays and other related works in the Library Exhibition Hall.\n\nAll activities included with general admission
URL:https://www.lajajakids.com/en/event/%e8%8e%8e%e5%a3%ab%e6%af%94%e4%ba%9e%e6%85%b6%e7%a5%9d%e6%97%a5/
LOCATION:1151 Oxford Road\, San Marino\, 91108\, United States
GEO:34.1280572;-118.1096821
X-APPLE-STRUCTURED-LOCATION;VALUE=URI;X-ADDRESS=1151 Oxford Road San Marino 91108 United States;X-APPLE-RADIUS=500;X-TITLE=1151 Oxford Road:geo:-118.1096821,34.1280572
CATEGORIES:Red,JaJa’s Picks
ATTACH;FMTTYPE=image/jpeg:https://www.lajajakids.com/wp-content/uploads/2018/04/shakes_day1.jpg
END:VEVENT
END:VCALENDAR