BEGIN:VCALENDAR
VERSION:2.0
PRODID:-//La JaJa - ECPv4.3.4.1//NONSGML v1.0//EN
CALSCALE:GREGORIAN
METHOD:PUBLISH
X-WR-CALNAME:La JaJa
X-ORIGINAL-URL:https://www.lajajakids.com/en
X-WR-CALDESC:Events for La JaJa
BEGIN:VEVENT
DTSTART;VALUE=DATE:20170916
DTEND;VALUE=DATE:20170916
DTSTAMP:20260422T140223
CREATED:20170915T162327Z
LAST-MODIFIED:20170915T162327Z
UID:51908-1505520000-1505606399@www.lajajakids.com
SUMMARY:Santa Monica Citywide Yard Sale
DESCRIPTION:Welcome Sellers! By participating in this event you will be helping our community keep reusable items out of the landfill and conserve natural resources. By the end of the sale\, you should also have extra space in your cupboards and a few extra dollars in your pocket.\n\nRegistration\nThe registration period is August 11th   through September 6th. If you would like to register after this date\, please note your sale may not be listed in the Yard Sale map\, but you can still benefit from the scores of buyers visiting neighboring sales!
URL:https://www.lajajakids.com/en/event/%e8%81%96%e8%8e%ab%e5%b0%bc%e5%8d%a1%e8%88%8a%e8%b2%a8%e6%97%a5/
LOCATION:2500 Michigan Ave\, Santa Monica\, CA\, 90404\, United States
GEO:34.0263168;-118.4692157
X-APPLE-STRUCTURED-LOCATION;VALUE=URI;X-ADDRESS=2500 Michigan Ave Santa Monica CA 90404 United States;X-APPLE-RADIUS=500;X-TITLE=2500 Michigan Ave:geo:-118.4692157,34.0263168
CATEGORIES:Red,JaJa’s Picks
ATTACH;FMTTYPE=image/jpeg:https://www.lajajakids.com/wp-content/uploads/2017/09/6-ways-get-rid-old-junk.jpg
END:VEVENT
END:VCALENDAR