BEGIN:VCALENDAR
VERSION:2.0
PRODID:-//La JaJa - ECPv4.3.4.1//NONSGML v1.0//EN
CALSCALE:GREGORIAN
METHOD:PUBLISH
X-WR-CALNAME:La JaJa
X-ORIGINAL-URL:https://www.lajajakids.com/en
X-WR-CALDESC:Events for La JaJa
BEGIN:VEVENT
DTSTART;VALUE=DATE:20180324
DTEND;VALUE=DATE:20180324
DTSTAMP:20260421T190251
CREATED:20171020T154610Z
LAST-MODIFIED:20180323T145853Z
UID:53298-1521849600-1521935999@www.lajajakids.com
SUMMARY:Santa Monica Symphony
DESCRIPTION:Spend a romantic evening with your loved ones at Santa Monica Symphony’s Spring Concert as we present works by Wagner\, Schubert and Brahms\, three of the most prominent German and Austrian composers in the Romantic period. The evening begins with the brilliant sound of the horn and other brass instruments in Prelude to Act III of the opera Lohengrin by Richard Wagner. The vividly colorful instrumental timbre continues in the next piece\, Franz Schubert’s Symphony No. 8 in B Minor\, also known as his “Unfinished Symphony”. Closing the concert will be Johannes Brahms’ powerful and dramatic Piano Concerto No.1 in D-minor\, featuring internationally award-winning Korean pianist So-Mang Jeagal. The concert will be held at 7:30 pm on Saturday\, March 24\, 2018 at Barnum Hall on the campus of Santa Monica High School. All Santa Monica Symphony Concerts are FREE and open seating. Pre-concert lecture by composer Russell Steinbergwill be held from 6:30 – 7 pm.
URL:https://www.lajajakids.com/en/event/%e8%81%96%e8%8e%ab%e5%b0%bc%e5%8d%a1%e4%ba%a4%e9%9f%bf%e6%a8%82/
LOCATION:  Santa Monica High School \,  Santa Monica \, CA\, United States
GEO:34.0116096;-118.4850131
X-APPLE-STRUCTURED-LOCATION;VALUE=URI;X-ADDRESS=Santa Monica High School   Santa Monica  CA United States;X-APPLE-RADIUS=500;X-TITLE=Santa Monica High School:geo:-118.4850131,34.0116096
CATEGORIES:Red,JaJa’s Picks
ATTACH;FMTTYPE=image/png:https://www.lajajakids.com/wp-content/uploads/2017/10/yay.png
END:VEVENT
END:VCALENDAR