BEGIN:VCALENDAR
VERSION:2.0
PRODID:-//La JaJa - ECPv4.3.4.1//NONSGML v1.0//EN
CALSCALE:GREGORIAN
METHOD:PUBLISH
X-WR-CALNAME:La JaJa
X-ORIGINAL-URL:https://www.lajajakids.com/en
X-WR-CALDESC:Events for La JaJa
BEGIN:VEVENT
DTSTART;VALUE=DATE:20190126
DTEND;VALUE=DATE:20190126
DTSTAMP:20260425T155723
CREATED:20180113T043021Z
LAST-MODIFIED:20190125T234010Z
UID:55504-1548460800-1548547199@www.lajajakids.com
SUMMARY:Daniel Tiger Day at the La Habra Children's Museum
DESCRIPTION:We’re teaming up with PBS SoCal for a beautiful day in our neighborhood! Learning stations for little hands and big minds will have your tyke engaged in purposeful play. Our very special guest Daniel Tiger himself will make appearances from 10am-2pm by RESERVATION ONLY. Reservations are Required- Please call (562)383-4236 to reserve your spot.\nDaniel Tiger Day\nWhen:\nJanuary 26\, 2019\nTime:\n10am - 3pm\nReservations for Meet & Greet:\nPlease call 562-383-4236\nWe’re teaming up with PBS SoCal for a beautiful day in our neighborhood! Along with a meet and greet with Daniel\, we’ll have fun learning stations too! Limited space. Free with Museum admission and reservation made. CMLH Members get to Meet Daniel Tiger 1 hour before the general public- call today!
URL:https://www.lajajakids.com/en/event/%e8%80%81%e8%99%8e%e4%b8%b9%e5%b0%bc%e6%8b%9c%e8%a8%aa%e6%97%a5/
LOCATION:301 South Euclid Street\, La Habra\, CA\, 90631\, United States
GEO:33.9296516;-117.9466619
X-APPLE-STRUCTURED-LOCATION;VALUE=URI;X-ADDRESS=301 South Euclid Street La Habra CA 90631 United States;X-APPLE-RADIUS=500;X-TITLE=301 South Euclid Street:geo:-117.9466619,33.9296516
CATEGORIES:Red,JaJa’s Picks
ATTACH;FMTTYPE=image/jpeg:https://www.lajajakids.com/wp-content/uploads/2018/01/danieltiger.jpg
END:VEVENT
END:VCALENDAR