BEGIN:VCALENDAR
VERSION:2.0
PRODID:-//La JaJa - ECPv4.3.4.1//NONSGML v1.0//EN
CALSCALE:GREGORIAN
METHOD:PUBLISH
X-WR-CALNAME:La JaJa
X-ORIGINAL-URL:https://www.lajajakids.com/en
X-WR-CALDESC:Events for La JaJa
BEGIN:VEVENT
DTSTART;VALUE=DATE:20180519
DTEND;VALUE=DATE:20180520
DTSTAMP:20260425T004137
CREATED:20180206T071518Z
LAST-MODIFIED:20180517T193424Z
UID:56478-1526688000-1526860799@www.lajajakids.com
SUMMARY:Civil War Reenactment
DESCRIPTION:\n\n\nã€Œ\nStep back in time and see what life was like during the War Between the States. Visit the encampments of the Union and Confederate Armies. See what life was like in the civilian camp. Watch one of several battles throughout the day. Ride the vintage train and trolleys. Train and trolleys will be available from 11:00 until 4:00. If you did not purchase an all-day ride pass with your admission ticket you may upgrade your ticket at the museum gift shop.\nThis is a gated event; admission is $7 per person for ages 12 & up and $5 for ages 4 â€“ 11. Admission is included with an all-day ride pass which is $12 for ages 12 & up and $8 for ages 5 â€“ 11. Ages 4 and under are free. This event is free for museum members.\n \nTickets Available Online NOW\n\n\n
URL:https://www.lajajakids.com/en/event/%e7%be%8e%e5%9c%8b%e7%8d%a8%e7%ab%8b%e6%88%b0%e7%88%ad%e5%a0%b4%e6%99%af%e9%87%8d%e6%bc%94/
LOCATION:2201 S. "A" St.\, Perris \, CA\, 92570\, United States
GEO:33.7601476;-117.2318344
X-APPLE-STRUCTURED-LOCATION;VALUE=URI;X-ADDRESS=2201 S. "A" St. Perris  CA 92570 United States;X-APPLE-RADIUS=500;X-TITLE=2201 S. "A" St.:geo:-117.2318344,33.7601476
CATEGORIES:Red,JaJaâ€™s Picks
ATTACH;FMTTYPE=image/jpeg:https://www.lajajakids.com/wp-content/uploads/2018/02/history-photo.jpg
END:VEVENT
END:VCALENDAR