BEGIN:VCALENDAR
VERSION:2.0
PRODID:-//La JaJa - ECPv4.3.4.1//NONSGML v1.0//EN
CALSCALE:GREGORIAN
METHOD:PUBLISH
X-WR-CALNAME:La JaJa
X-ORIGINAL-URL:https://www.lajajakids.com/en
X-WR-CALDESC:Events for La JaJa
BEGIN:VEVENT
DTSTART;VALUE=DATE:20180701
DTEND;VALUE=DATE:20180701
DTSTAMP:20260423T202530
CREATED:20180629T170314Z
LAST-MODIFIED:20180629T170314Z
UID:61256-1530403200-1530489599@www.lajajakids.com
SUMMARY:The Little Mermaid a Musical Adventure
DESCRIPTION:Summer is here at Superhero & Princess Academy and the superheroes and princesses are gearing up for a summer break like no other! With flower blossoms in bloom and sunshine in the sky there’s no better time for an adventure than summer and no better way to celebrate than with a summer break show! When impatience gets the better of them\, the Superheroes and Princesses all decide to leave on their summer break field trip without their teachers\, but they soon learn that patience is a virtue when the villains arrive to detour them from their plans and they have to figure out how to get a message to the teachers for help. They will need your help in defeating the villains to get to their summer break fun. With lots of singing\, dancing and action this Creating Arts Company\, one-hour\, immersive\, interactive\, original show will delight audiences from 3 to 103! Always a favorite with adults as well as kids\, this series combines favorite characters\, pop\, rock and popular songs with valuable lessons that will leave you wanting more! Stay after for a special meet and greet with the characters!
URL:https://www.lajajakids.com/en/event/%e7%be%8e%e4%ba%ba%e9%ad%9a%e6%b5%b7%e7%81%98%e9%9f%b3%e6%a8%82%e7%af%80/
LOCATION:10508 W Pico Blvd\, Los Angeles\, CA\, United States
CATEGORIES:Red,JaJa’s Picks
ATTACH;FMTTYPE=image/jpeg:https://www.lajajakids.com/wp-content/uploads/2018/06/little-mermaid-show.jpg.jpeg
END:VEVENT
END:VCALENDAR