BEGIN:VCALENDAR
VERSION:2.0
PRODID:-//La JaJa - ECPv4.3.4.1//NONSGML v1.0//EN
CALSCALE:GREGORIAN
METHOD:PUBLISH
X-WR-CALNAME:La JaJa
X-ORIGINAL-URL:https://www.lajajakids.com/en
X-WR-CALDESC:Events for La JaJa
BEGIN:VEVENT
DTSTART;VALUE=DATE:20180714
DTEND;VALUE=DATE:20180714
DTSTAMP:20260425T235112
CREATED:20180712T222449Z
LAST-MODIFIED:20180712T222449Z
UID:61568-1531526400-1531612799@www.lajajakids.com
SUMMARY:Summer Music Series (Del Amo)
DESCRIPTION:Join us every Second Saturday in our Outdoor Village from 2PM - 4PM for live music\, food and drink samples\, outdoor games and more!\n\nJune 9: Professional Folk\n\nJuly 14: Natalie Clark\n\nAugust 11: Michael Physick + Band\n\nSeptember 8: Lisa Ritchie
URL:https://www.lajajakids.com/en/event/%e7%82%8e%e7%82%8e%e5%a4%8f%e6%97%a5%e9%9f%b3%e6%a8%82%e6%97%85%e7%a8%8b/
LOCATION:3525 W Carson St\, Torrance\, CA\, 90503\, United States
GEO:33.8268211;-118.34859
X-APPLE-STRUCTURED-LOCATION;VALUE=URI;X-ADDRESS=3525 W Carson St Torrance CA 90503 United States;X-APPLE-RADIUS=500;X-TITLE=3525 W Carson St:geo:-118.34859,33.8268211
CATEGORIES:Red,JaJa’s Picks
ATTACH;FMTTYPE=image/jpeg:https://www.lajajakids.com/wp-content/uploads/2018/07/Starlight-Grass-1030x614.jpg
END:VEVENT
END:VCALENDAR