BEGIN:VCALENDAR
VERSION:2.0
PRODID:-//La JaJa - ECPv4.3.4.1//NONSGML v1.0//EN
CALSCALE:GREGORIAN
METHOD:PUBLISH
X-WR-CALNAME:La JaJa
X-ORIGINAL-URL:https://www.lajajakids.com/en
X-WR-CALDESC:Events for La JaJa
BEGIN:VEVENT
DTSTART;VALUE=DATE:20170908
DTEND;VALUE=DATE:20170910
DTSTAMP:20260420T181754
CREATED:20170603T012711Z
LAST-MODIFIED:20170908T044737Z
UID:42534-1504828800-1505087999@www.lajajakids.com
SUMMARY:Pirate Days Festival
DESCRIPTION:\n\n\n\n\nA celebration of all things pirate! We encourage young and old to throw on their best pirate attire for a weekend of eye patches\, parrots\, mermaids and walking the plank! Join us for the 2017 Pirate Festival featuring Captain Morgan and the Outlaw Pirates.\n\nThis FREE event includes:\n\n\tPirate themed stage performances and entertainers\n\tLive sword fighting\n\tLive music from pirate bands Ship of Fools\, Joust Kidding\, and The Pirates Charles\n\tMermaids available for photos\n\tFace painting and stilt walkers\n\nThis year’s festival will also feature our very own pirate ship! Pirate-themed harbor tours will also be available on Spirit Cruise’s sailing ship.\n\n*This event is dog/pet friendly! Bring your fur baby in their finest pirate outfit–all dogs must be on leashes.\n\nHope to see you here!\nWhen:\nSeptember 9   –  1-7 PM\nSeptember 10 –  1-5 PM\n\nWhere:\nShoreline Village\n401-435 Shoreline Village Drive\, Long Beach\, California 90802\n\n\n\n
URL:https://www.lajajakids.com/en/event/%e6%b5%b7%e7%9b%9c%e5%98%89%e5%b9%b4%e8%8f%af/
LOCATION:401-435 Shoreline Village Drive\, Long Beach\, CA\, 90802\, United States
GEO:33.760525;-118.189934
X-APPLE-STRUCTURED-LOCATION;VALUE=URI;X-ADDRESS=401-435 Shoreline Village Drive Long Beach CA 90802 United States;X-APPLE-RADIUS=500;X-TITLE=401-435 Shoreline Village Drive:geo:-118.189934,33.760525
CATEGORIES:Red,JaJa’s Picks
ATTACH;FMTTYPE=image/jpeg:https://www.lajajakids.com/wp-content/uploads/2017/06/pirate.jpg
END:VEVENT
END:VCALENDAR