BEGIN:VCALENDAR
VERSION:2.0
PRODID:-//La JaJa - ECPv4.3.4.1//NONSGML v1.0//EN
CALSCALE:GREGORIAN
METHOD:PUBLISH
X-WR-CALNAME:La JaJa
X-ORIGINAL-URL:https://www.lajajakids.com/en
X-WR-CALDESC:Events for La JaJa
BEGIN:VEVENT
DTSTART;VALUE=DATE:20190316
DTEND;VALUE=DATE:20190317
DTSTAMP:20260420T125736
CREATED:20180316T235213Z
LAST-MODIFIED:20190315T211419Z
UID:57720-1552694400-1552867199@www.lajajakids.com
SUMMARY:LA Nature Fest
DESCRIPTION:March 16 and 17\, 2019\nJoin us for a two-day festival as we celebrate L.A.'s wild side!\nThere’s a surprising amount of nature in Los Angeles\, and the more you know how to look for it\, the more you’ll see. You’ll be blown away by the plants\, animals\, and the people devoted to protecting and studying them.\nFestival highlights include:\n\n\n\tMeet live animals such as falcons\, owls\, oppossums\, and reptiles.\n\tBuild your own bird houses! Limited availability\, first come\, first served.\n\tRaptor flight demonstrations.\n\tTalk face to face with real scientists and nature experts who are excited to answer your questions.\n\tBe one of the first to get a copy of NHM's newest book Wild L.A. and meet the authors.\n\tFree giveaways from the Tree People and seed packets from Big Green.\n\tStep and repeat with Nickelodeon's SpongeBob characters.\n\tOver 35 exhibitor booths with local organizations\n\tHands on nature crafts​ and activities\n\nThis festival is your research to learn about the nature all around you.\nFREE with paid museum admission or for Members.\nMEMBERSHIP: See it for free\, become a Member today!\nCURRENT MEMBERS: No need to make reservations\, Member tickets are available the day of your visit at the Museum. Members get early admission to NHM at 9 am.\nGROUP VISITS: Bring your group to experience L.A. Nature Fest. Discounted group rates are available for groups of 10 or more people.
URL:https://www.lajajakids.com/en/event/%e6%b4%9b%e6%9d%89%e7%a3%af%e8%87%aa%e7%84%b6%e6%96%87%e5%8c%96%e5%98%89%e5%b9%b4%e8%8f%af/
LOCATION:900 Exposition Blvd\, \, Los Angeles\, CA\, 90007\, United States
GEO:34.0170769;-118.2886818
X-APPLE-STRUCTURED-LOCATION;VALUE=URI;X-ADDRESS=900 Exposition Blvd  Los Angeles CA 90007 United States;X-APPLE-RADIUS=500;X-TITLE=900 Exposition Blvd\,:geo:-118.2886818,34.0170769
CATEGORIES:Red,JaJa’s Picks
ATTACH;FMTTYPE=image/jpeg:https://www.lajajakids.com/wp-content/uploads/2018/03/Tour-Nature-Gardens-cropped1.jpg
END:VEVENT
END:VCALENDAR