BEGIN:VCALENDAR
VERSION:2.0
PRODID:-//La JaJa - ECPv4.3.4.1//NONSGML v1.0//EN
CALSCALE:GREGORIAN
METHOD:PUBLISH
X-WR-CALNAME:La JaJa
X-ORIGINAL-URL:https://www.lajajakids.com/en
X-WR-CALDESC:Events for La JaJa
BEGIN:VEVENT
DTSTART;VALUE=DATE:20180421
DTEND;VALUE=DATE:20180422
DTSTAMP:20260425T221228
CREATED:20180420T012113Z
LAST-MODIFIED:20180420T012113Z
UID:58821-1524268800-1524441599@www.lajajakids.com
SUMMARY:Earth Day Celebration
DESCRIPTION:Time: 9:00 am to 5:00 pm\n\nAbout 70% of the Earth's surface is covered by water\, so what better place to celebrate Earth Day than the Aquarium of the Pacific!\n\nFamilies can join the Aquarium for a weekend of family fun while learning simple\, everyday tips to protect our environment. Aquarium guests can participate in hands-on learning demonstrations and visit booths from Earth-friendly organizations. The Aquarium also debuts new climate change programming and exhibits during Earth Day weekend.
URL:https://www.lajajakids.com/en/event/%e6%b0%b4%e6%97%8f%e9%a4%a8%e4%b8%96%e7%95%8c%e5%9c%b0%e7%90%83%e6%97%a5/
LOCATION:100 Aquarium Way\, Long Beach\, 90802\, United States
GEO:33.7622585;-118.1966005
X-APPLE-STRUCTURED-LOCATION;VALUE=URI;X-ADDRESS=100 Aquarium Way Long Beach 90802 United States;X-APPLE-RADIUS=500;X-TITLE=100 Aquarium Way:geo:-118.1966005,33.7622585
CATEGORIES:Green
ATTACH;FMTTYPE=image/jpeg:https://www.lajajakids.com/wp-content/uploads/2018/04/aquarium_of_the_pacific_earth_day.jpg
END:VEVENT
END:VCALENDAR