BEGIN:VCALENDAR
VERSION:2.0
PRODID:-//La JaJa - ECPv4.3.4.1//NONSGML v1.0//EN
CALSCALE:GREGORIAN
METHOD:PUBLISH
X-WR-CALNAME:La JaJa
X-ORIGINAL-URL:https://www.lajajakids.com/en
X-WR-CALDESC:Events for La JaJa
BEGIN:VEVENT
DTSTART;VALUE=DATE:20180630
DTEND;VALUE=DATE:20180630
DTSTAMP:20260419T180943
CREATED:20180629T012320Z
LAST-MODIFIED:20180629T012320Z
UID:61216-1530316800-1530403199@www.lajajakids.com
SUMMARY:Charting Memory
DESCRIPTION:Make a map of your personal geographical journey with all of its diverse landmarks\, either from recent memory or long ago. It may be the daily trip to and from school in your neighborhood or a journey you remember from another time and place. Think of all the significant places you have passed or visited\, and use these memories to create a personal work of art using mixed-media techniques. Recommended for 3rd grade and up.
URL:https://www.lajajakids.com/en/event/%e6%a8%82%e8%b6%a3%e8%a8%98%e6%86%b6%e6%b3%95/
LOCATION:600 State Drive\, Los Angeles\, CA\, 90037\, United States
GEO:34.0159416;-118.2836284
X-APPLE-STRUCTURED-LOCATION;VALUE=URI;X-ADDRESS=600 State Drive Los Angeles CA 90037 United States;X-APPLE-RADIUS=500;X-TITLE=600 State Drive:geo:-118.2836284,34.0159416
CATEGORIES:Red,JaJa’s Picks
ATTACH;FMTTYPE=image/jpeg:https://www.lajajakids.com/wp-content/uploads/2018/06/5b208b0fbd.jpg
END:VEVENT
END:VCALENDAR