BEGIN:VCALENDAR
VERSION:2.0
PRODID:-//La JaJa - ECPv4.3.4.1//NONSGML v1.0//EN
CALSCALE:GREGORIAN
METHOD:PUBLISH
X-WR-CALNAME:La JaJa
X-ORIGINAL-URL:https://www.lajajakids.com/en
X-WR-CALDESC:Events for La JaJa
BEGIN:VEVENT
DTSTART;VALUE=DATE:20190120
DTEND;VALUE=DATE:20190120
DTSTAMP:20260422T230649
CREATED:20190117T175912Z
LAST-MODIFIED:20190117T180009Z
UID:66053-1547942400-1548028799@www.lajajakids.com
SUMMARY:Lunar Eclipse Hike
DESCRIPTION:Join us for an evening hike to view the start of the Lunar Eclipse. A team of Naturalist Guides will lead this hike to observe this “Blood Moon” as the eclipse appears to turn the Moon a red color.
URL:https://www.lajajakids.com/en/event/%e6%9c%88%e9%a3%9f%e4%b9%8b%e6%97%85/
LOCATION:1936 Lake Dr\, Beverly Hills\, CA\, United States
CATEGORIES:Red,JaJa’s Picks
ATTACH;FMTTYPE=image/jpeg:https://www.lajajakids.com/wp-content/uploads/2019/01/solar_eclipse.jpg
END:VEVENT
END:VCALENDAR