BEGIN:VCALENDAR
VERSION:2.0
PRODID:-//La JaJa - ECPv4.3.4.1//NONSGML v1.0//EN
CALSCALE:GREGORIAN
METHOD:PUBLISH
X-WR-CALNAME:La JaJa
X-ORIGINAL-URL:https://www.lajajakids.com/en
X-WR-CALDESC:Events for La JaJa
BEGIN:VEVENT
DTSTART;VALUE=DATE:20181006
DTEND;VALUE=DATE:20181007
DTSTAMP:20260420T035619
CREATED:20181005T165022Z
LAST-MODIFIED:20181005T165022Z
UID:63735-1538784000-1538956799@www.lajajakids.com
SUMMARY:Hatchtopia: Introducing HatchiBabies
DESCRIPTION:INTRODUCING: HATCHIBABIES FROM HATCHIMALS\nOctober 5-7\, 201810am-9pm\n\n\n\nHatchtopia is coming to The Grove to introduce the latest addition to the magical world of Hatchimals: HatchiBabies. Come meet the adorable new characters and enjoy on-site games\, activities\, photo ops\, and more for the whole family.\n\n
URL:https://www.lajajakids.com/en/event/%e6%96%b0%e7%94%9f%e5%91%bd%e7%9a%84%e8%9b%8b%e7%94%9f/
LOCATION:189 The Grove Drive\, Los Angeles\, CA\, 90036\, United States
GEO:34.0716042;-118.357882
X-APPLE-STRUCTURED-LOCATION;VALUE=URI;X-ADDRESS=189 The Grove Drive Los Angeles CA 90036 United States;X-APPLE-RADIUS=500;X-TITLE=189 The Grove Drive:geo:-118.357882,34.0716042
CATEGORIES:Red,JaJa’s Picks
ATTACH;FMTTYPE=image/png:https://www.lajajakids.com/wp-content/uploads/2018/10/GAF_Hatchimals_SAE_900x600.png
END:VEVENT
END:VCALENDAR