BEGIN:VCALENDAR
VERSION:2.0
PRODID:-//La JaJa - ECPv4.3.4.1//NONSGML v1.0//EN
CALSCALE:GREGORIAN
METHOD:PUBLISH
X-WR-CALNAME:La JaJa
X-ORIGINAL-URL:https://www.lajajakids.com/en
X-WR-CALDESC:Events for La JaJa
BEGIN:VEVENT
DTSTART;VALUE=DATE:20180203
DTEND;VALUE=DATE:20180203
DTSTAMP:20260424T233524
CREATED:20180203T005725Z
LAST-MODIFIED:20180203T005725Z
UID:56325-1517616000-1517702399@www.lajajakids.com
SUMMARY:Impro Theatre's Fairytales UnScripted
DESCRIPTION:Impro Theatre delves into the world of fairytales featuring wondrous magic\, dangerous journeys and true love\, with a lesson or two along the way. Inspired by the suggestions and imaginations of our youngest audience members\, Fairytales UnScripted brings to life stories that no one has ever seen—and no one will ever see again.
URL:https://www.lajajakids.com/en/event/%e6%95%85%e4%ba%8b%e5%89%b5%e6%84%8f%e6%9c%83/
LOCATION:1310 11th Street\, Santa Monica\, CA\, 90401\, United States
GEO:34.022176;-118.4898567
X-APPLE-STRUCTURED-LOCATION;VALUE=URI;X-ADDRESS=1310 11th Street Santa Monica CA 90401 United States;X-APPLE-RADIUS=500;X-TITLE=1310 11th Street:geo:-118.4898567,34.022176
CATEGORIES:Red,JaJa’s Picks
ATTACH;FMTTYPE=image/jpeg:https://www.lajajakids.com/wp-content/uploads/2018/02/1498761402_back_image_Fairytales.ShowListing.2600x1300.jpg
END:VEVENT
END:VCALENDAR