BEGIN:VCALENDAR
VERSION:2.0
PRODID:-//La JaJa - ECPv4.3.4.1//NONSGML v1.0//EN
CALSCALE:GREGORIAN
METHOD:PUBLISH
X-WR-CALNAME:La JaJa
X-ORIGINAL-URL:https://www.lajajakids.com/en
X-WR-CALDESC:Events for La JaJa
BEGIN:VEVENT
DTSTART;VALUE=DATE:20180210
DTEND;VALUE=DATE:20180210
DTSTAMP:20260425T125028
CREATED:20180210T155116Z
LAST-MODIFIED:20180210T155116Z
UID:56611-1518220800-1518307199@www.lajajakids.com
SUMMARY:Bee Mine\, Valentine Craft at Lakeshore Learning Store
DESCRIPTION:Make a special day even sweeter with a series of Valentine’s-themed crafts，such as : Build a bee hive\, create a buzz-worthy headband or craft a valentine card holder.
URL:https://www.lajajakids.com/en/event/%e6%83%85%e4%ba%ba%e7%af%80%e6%89%8b%e5%b7%a5%e8%97%9d%e7%a6%ae%e7%89%a9/
LOCATION:2079 Hillside Ave.\, New Hyde Park\, NY\, 11040\, United States
CATEGORIES:Red,JaJa’s Picks
ATTACH;FMTTYPE=image/jpeg:https://www.lajajakids.com/wp-content/uploads/2018/02/DVCs3MrVwAAUaGJ.jpg
END:VEVENT
END:VCALENDAR