BEGIN:VCALENDAR
VERSION:2.0
PRODID:-//La JaJa - ECPv4.3.4.1//NONSGML v1.0//EN
CALSCALE:GREGORIAN
METHOD:PUBLISH
X-WR-CALNAME:La JaJa
X-ORIGINAL-URL:https://www.lajajakids.com/en
X-WR-CALDESC:Events for La JaJa
BEGIN:VEVENT
DTSTART;VALUE=DATE:20180324
DTEND;VALUE=DATE:20180325
DTSTAMP:20260420T001959
CREATED:20180323T103258Z
LAST-MODIFIED:20180323T103258Z
UID:57931-1521849600-1522022399@www.lajajakids.com
SUMMARY:Bunny Train
DESCRIPTION:\n\n \nHop on board the Orange Empire Railway Museum Bunny Train!Â \nThe Easter Bunny makes a stop at the Southern California Railway Museum (aka Orange Empire Railway Museum).Â  Kids of all ages can enjoy the magic of trains and the magic of the Easter Bunny at this popular annual event. The Easter Bunny hops through the train\, greeting each child with a special treat and posing for a photo. Children can decorate Easter baskets and then follow a treasure map to find Easter eggs and other goodies.\n\nThe fun continues with bunny hop sack races and egg races\, a bounce house and other activities.\nDate: Sat Mar 24\, 2018 - Sun Mar 25\, 2018\nTime: 11:00 am to 4:00 pm\nAge:Â All ages\nPrice:Â 12 and up $15; Children (2 - 11): $10
URL:https://www.lajajakids.com/en/event/%e5%be%a9%e6%b4%bb%e7%af%80%e5%85%94%e5%ad%90%e5%88%97%e8%bb%8a/
LOCATION:2201 S. "A" St.\, Perris \, CA\, 92570\, United States
GEO:33.7601476;-117.2318344
X-APPLE-STRUCTURED-LOCATION;VALUE=URI;X-ADDRESS=2201 S. "A" St. Perris  CA 92570 United States;X-APPLE-RADIUS=500;X-TITLE=2201 S. "A" St.:geo:-117.2318344,33.7601476
CATEGORIES:Purple
END:VEVENT
END:VCALENDAR