BEGIN:VCALENDAR
VERSION:2.0
PRODID:-//La JaJa - ECPv4.3.4.1//NONSGML v1.0//EN
CALSCALE:GREGORIAN
METHOD:PUBLISH
X-WR-CALNAME:La JaJa
X-ORIGINAL-URL:https://www.lajajakids.com/en
X-WR-CALDESC:Events for La JaJa
BEGIN:VEVENT
DTSTART;VALUE=DATE:20180224
DTEND;VALUE=DATE:20180225
DTSTAMP:20260422T204018
CREATED:20180203T004745Z
LAST-MODIFIED:20180224T022058Z
UID:56321-1519430400-1519603199@www.lajajakids.com
SUMMARY:Pirates of Penzance
DESCRIPTION:Toss your worries overboard and join playful pirates\, dewy-eyed damsels\, bumbling bobbies and one very stuffy modern Major-General on stage. Bring your friends and family to experience the biggest beach party of the year–complete with guitars\, beach balls\, banjos and a tiki bar!  Find your inner pirate as Chicago theater rebels The Hypocrites bring this brilliantly zany adaptation of the Gilbert and Sullivan classic musical to LA for the first time\, and you won’t want to miss out on the fun!
URL:https://www.lajajakids.com/en/event/%e5%bd%ad%e8%b4%8a%e6%96%af%e6%b5%b7%e7%9b%9c%e6%97%a5/
LOCATION:39 S El Molino\, Pasadena\, CA\, 91101\, United States
GEO:34.1451149;-118.137375
X-APPLE-STRUCTURED-LOCATION;VALUE=URI;X-ADDRESS=39 S El Molino Pasadena CA 91101 United States;X-APPLE-RADIUS=500;X-TITLE=39 S El Molino:geo:-118.137375,34.1451149
CATEGORIES:Red,JaJa’s Picks
ATTACH;FMTTYPE=image/jpeg:https://www.lajajakids.com/wp-content/uploads/2018/02/the-pirates-of-penzance-the-production-company-gareth-keegan-genevieve-lemon-adam-murphy-pirates.jpg
END:VEVENT
END:VCALENDAR