BEGIN:VCALENDAR
VERSION:2.0
PRODID:-//La JaJa - ECPv4.3.4.1//NONSGML v1.0//EN
CALSCALE:GREGORIAN
METHOD:PUBLISH
X-WR-CALNAME:La JaJa
X-ORIGINAL-URL:https://www.lajajakids.com/en
X-WR-CALDESC:Events for La JaJa
BEGIN:VEVENT
DTSTART;TZID=America/Los_Angeles:20180721T203000
DTEND;TZID=America/Los_Angeles:20180721T223000
DTSTAMP:20260425T232746
CREATED:20180720T063949Z
LAST-MODIFIED:20180720T064052Z
UID:61853-1532205000-1532212200@www.lajajakids.com
SUMMARY:Old Pasadena Summer Cinema
DESCRIPTION:Old Pasadena Summer Cinema (formerly the Old Pasadena Film Festival) continues the tradition of a month-long\, free movie series featuring screenings in predominantly outdoor locations.\n\nRunning from July 5 – July 28\, this annual summer film program celebrates motion picture in all of its forms offering a variety of audience-pleasing movie titles and genres.\n\nBring your own chairs and blankets to Central Park screenings. One Colorado Courtyard\, Distant Lands\, and CTRL Collective provide limited seating; be sure to arrive early to secure your seats.​\n\nONE COLORADO COURTYARD - 41 Hugus Alley ~ 8:30pm\n\nJuly 21: Wonder Woman\nJuly 27: 500 Days of Summer\nJuly 28: The Princess Bride\nCENTRAL PARK - 275 S. Raymond Avenue ~ 8:30pm\n​Central Park screenings include special activities such as DJ sets and treats starting at 6:30pm.\n\nJuly 28: The Muppet Movie\n\nDISTANT LANDS - 20 S. Raymond Avenue (indoor)~ 8:00pm\nJuly 27\, How Much Further
URL:https://www.lajajakids.com/en/event/%e5%b8%95%e8%96%a9%e8%bf%aa%e7%b4%8d%e8%80%81%e5%9f%8e%e9%8e%ae%e5%a4%8f%e5%ad%a3%e5%85%8d%e8%b2%bb%e9%9b%bb%e5%bd%b1%e6%97%a5/
LOCATION:41 Hugus Alley\, Pasadena\, CA\, United States
GEO:34.1463982;-118.1516766
X-APPLE-STRUCTURED-LOCATION;VALUE=URI;X-ADDRESS=41 Hugus Alley Pasadena CA United States;X-APPLE-RADIUS=500;X-TITLE=41 Hugus Alley:geo:-118.1516766,34.1463982
CATEGORIES:Green
ATTACH;FMTTYPE=image/jpeg:https://www.lajajakids.com/wp-content/uploads/2018/07/old_pasa.jpg
END:VEVENT
END:VCALENDAR