BEGIN:VCALENDAR
VERSION:2.0
PRODID:-//La JaJa - ECPv4.3.4.1//NONSGML v1.0//EN
CALSCALE:GREGORIAN
METHOD:PUBLISH
X-WR-CALNAME:La JaJa
X-ORIGINAL-URL:https://www.lajajakids.com/en
X-WR-CALDESC:Events for La JaJa
BEGIN:VEVENT
DTSTART;VALUE=DATE:20180113
DTEND;VALUE=DATE:20180114
DTSTAMP:20260424T041509
CREATED:20170922T022519Z
LAST-MODIFIED:20180113T030002Z
UID:52279-1515801600-1515974399@www.lajajakids.com
SUMMARY:Doc McStuffins: The Exhibit
DESCRIPTION:Disney Junior brings its popular “Doc McStuffins” storytelling to communities in the first-ever touring museum exhibit based on the Peabody Award-winning television series. The exhibit\, in partnership with The Children’s Museum of Indianapolis\, is designed to model “care and compassion” for kids age 2-6 in immersive activities that reinforce the importance of health and well-being. Presented by Riley Hospital for Children at Indiana University Health\, “Doc McStuffins: The Exhibit” at Discovery Cube allows young “doctors-in- training” to visit the McStuffins Toy Hospital where they can perform check-ups and diagnose toy patients while learning about healthy habits\, compassion and nurturing care.\n\n*Disney character live appearances are not part of the exhibit.\nExhibit activities include:\n\n\tGiving toy patients check-ups in the Emergency Room.\n\tPerforming “operations” on toys that need bigger fixes in the Operating Room.\n\tDiagnosing pet toys with X-ray scanning machines in the Pet Vet Clinic.\n\tRocking baby dolls to sleep and helping them follow their bedtime routines in the Nursery.\n\tBefore caring for their toys\, young visitors will learn how to “scrub in” and practice good hygiene. The exhibit helps children learn the importance of healthy living\, well-being and nurturing our bodies\, and provides an opportunity for children to become comfortable in a healthcare setting.\n
URL:https://www.lajajakids.com/en/event/%e5%b0%8f%e9%86%ab%e7%94%9f%e5%b1%95%e8%a6%bd%e6%9c%83/
LOCATION:11800 Foothill Blvd\, Los Angeles\, CA\, 91342\, United States
GEO:34.272792;-118.3927004
X-APPLE-STRUCTURED-LOCATION;VALUE=URI;X-ADDRESS=11800 Foothill Blvd Los Angeles CA 91342 United States;X-APPLE-RADIUS=500;X-TITLE=11800 Foothill Blvd:geo:-118.3927004,34.272792
CATEGORIES:Red,JaJa’s Picks
ATTACH;FMTTYPE=image/jpeg:https://www.lajajakids.com/wp-content/uploads/2017/09/Doc-McStuffins-Traveling-Media-71.jpg
END:VEVENT
END:VCALENDAR