BEGIN:VCALENDAR
VERSION:2.0
PRODID:-//La JaJa - ECPv4.3.4.1//NONSGML v1.0//EN
CALSCALE:GREGORIAN
METHOD:PUBLISH
X-WR-CALNAME:La JaJa
X-ORIGINAL-URL:https://www.lajajakids.com/en
X-WR-CALDESC:Events for La JaJa
BEGIN:VEVENT
DTSTART;VALUE=DATE:20170625
DTEND;VALUE=DATE:20170625
DTSTAMP:20260422T235101
CREATED:20170622T231744Z
LAST-MODIFIED:20170622T231744Z
UID:44903-1498348800-1498435199@www.lajajakids.com
SUMMARY:826LA@Hammer: Welcome to My Museum
DESCRIPTION:\n\n                                                       SUNDAY JUN 25\, 2017 11:00AM\n\n\n\n\n\n\nRecommended for ages 8–13\n\nExplore offbeat museums and installations from around the world. Then create your own museum\, detailing the treasures and exhibits within. Finally\, present your creation to the group to celebrate the “opening“ of your museum. Led by Jayne Kennedy\, a writer\, researcher\, and artist who works in the television industry.\n\n\n\n826LA@HAMMER\n\n\n\nFree collaborative workshops\, presented with 826LA\, combine writing with creative activities for groups of up to 20 students.\n\n\n\n\n\n\nATTENDING THIS PROGRAM?\nALL HAMMER PROGRAMS ARE FREE\nLocation: Annex\nTicketing: These workshops are designed for up to 20 students. Reservations are encouraged: visit workshops.826la.org or call 310-915-0200. Drop-ins are welcome\, if space allows.\nParking: Under the museum\, $6 cash flat rate on weekends. Cash only.\n\nThe Hammer is dedicated to providing a comfortable and engaging experience for all ages. Children under 12 are welcome to visit with adult companions.\n\n\n\n\n
URL:https://www.lajajakids.com/en/event/%e5%b0%8f%e5%b0%8f%e8%97%9d%e8%a1%93%e5%8d%9a%e7%89%a9%e9%a4%a8/
LOCATION:10899 Wilshire Blvd\, Los Angeles\, CA\, 90024\, United States
GEO:34.0591217;-118.4436674
X-APPLE-STRUCTURED-LOCATION;VALUE=URI;X-ADDRESS=10899 Wilshire Blvd Los Angeles CA 90024 United States;X-APPLE-RADIUS=500;X-TITLE=10899 Wilshire Blvd:geo:-118.4436674,34.0591217
CATEGORIES:Red,JaJa’s Picks
ATTACH;FMTTYPE=image/jpeg:https://www.lajajakids.com/wp-content/uploads/2017/06/6422c545567e5ac205343bbe203eedf6.jpg
END:VEVENT
END:VCALENDAR