BEGIN:VCALENDAR
VERSION:2.0
PRODID:-//La JaJa - ECPv4.3.4.1//NONSGML v1.0//EN
CALSCALE:GREGORIAN
METHOD:PUBLISH
X-WR-CALNAME:La JaJa
X-ORIGINAL-URL:https://www.lajajakids.com/en
X-WR-CALDESC:Events for La JaJa
BEGIN:VEVENT
DTSTART;VALUE=DATE:20181014
DTEND;VALUE=DATE:20181014
DTSTAMP:20260421T065651
CREATED:20170622T230038Z
LAST-MODIFIED:20181013T021455Z
UID:44895-1539475200-1539561599@www.lajajakids.com
SUMMARY:Velveteen Rabbit
DESCRIPTION:Creative Playground\nCreative PlayGround\, a not-for-profit arts organization\, develops and performs interactive\, literature-based theatre for family audiences. Started by Co-Artistic Directors Karen Hardcastle and Elizabeth Tobias and utilizing the talents of a diverse company of professional performers and educators\, Creative PlayGround is committed to bringing to life the stories of many cultures for children of all ages and backgrounds.\n\n\n\nWe believe that theatre for children should be accessible\, an extension of their own play; focusing on creativity and encouraging our audiences to help build the world of the story with their own imaginations. We seek to spark in our audience a love of literature\, a love of theatre\, and a love of the magical world of their own creative energy.\n\nWe believe that a shared theatrical experience strengthens both the family and the individual by raising questions which inspire dialogue.\n\n 
URL:https://www.lajajakids.com/en/event/%e5%ae%b6%e5%ba%ad%e8%b6%a3%e5%91%b3%e8%a1%a8%e6%bc%94%e6%97%a5/
LOCATION:1419 N. Topanga Canyon Blvd\, Topanga\, CA\, 90290\, United States
GEO:34.1108513;-118.5928551
X-APPLE-STRUCTURED-LOCATION;VALUE=URI;X-ADDRESS=1419 N. Topanga Canyon Blvd Topanga CA 90290 United States;X-APPLE-RADIUS=500;X-TITLE=1419 N. Topanga Canyon Blvd:geo:-118.5928551,34.1108513
CATEGORIES:Red,JaJaâ€™s Picks
ATTACH;FMTTYPE=image/jpeg:https://www.lajajakids.com/wp-content/uploads/2017/06/Web-logo-VR.jpg
END:VEVENT
END:VCALENDAR