BEGIN:VCALENDAR
VERSION:2.0
PRODID:-//La JaJa - ECPv4.3.4.1//NONSGML v1.0//EN
CALSCALE:GREGORIAN
METHOD:PUBLISH
X-WR-CALNAME:La JaJa
X-ORIGINAL-URL:https://www.lajajakids.com/en
X-WR-CALDESC:Events for La JaJa
BEGIN:VEVENT
DTSTART;VALUE=DATE:20190414
DTEND;VALUE=DATE:20190414
DTSTAMP:20260420T205403
CREATED:20181019T200910Z
LAST-MODIFIED:20190413T142438Z
UID:64072-1555200000-1555286399@www.lajajakids.com
SUMMARY:Pacífico Dance Company
DESCRIPTION:Pacífico Dance Company is dedicated to the performance and preservation of traditional Mexican dance. Enjoy this colorful fusion of dance\, culture and folklore.Program notes available here.All Family Programs feature pre-show activities. Arrive an hour early to enjoy art projects!Family Programming at The Broad Stage made possible in part by the generous support of the City of Santa Monica and the Santa Monica Arts Commissions\, and the Los Angeles County Board of Supervisors through the Los Angeles County Arts Commission. 
URL:https://www.lajajakids.com/en/event/%e5%a4%aa%e5%b9%b3%e6%b4%8b%e8%88%9e%e8%b9%88/
LOCATION:1310 11th Street\, Santa Monica\, CA\, 90401\, United States
GEO:34.022176;-118.4898567
X-APPLE-STRUCTURED-LOCATION;VALUE=URI;X-ADDRESS=1310 11th Street Santa Monica CA 90401 United States;X-APPLE-RADIUS=500;X-TITLE=1310 11th Street:geo:-118.4898567,34.022176
CATEGORIES:Red,JaJa’s Picks
ATTACH;FMTTYPE=image/jpeg:https://www.lajajakids.com/wp-content/uploads/2018/10/rb1_1606.jpg
END:VEVENT
END:VCALENDAR