BEGIN:VCALENDAR
VERSION:2.0
PRODID:-//La JaJa - ECPv4.3.4.1//NONSGML v1.0//EN
CALSCALE:GREGORIAN
METHOD:PUBLISH
X-WR-CALNAME:La JaJa
X-ORIGINAL-URL:https://www.lajajakids.com/en
X-WR-CALDESC:Events for La JaJa
BEGIN:VEVENT
DTSTART;VALUE=DATE:20180623
DTEND;VALUE=DATE:20180623
DTSTAMP:20260419T182102
CREATED:20170622T230845Z
LAST-MODIFIED:20180623T033925Z
UID:44899-1529712000-1529798399@www.lajajakids.com
SUMMARY:SUMMER SOULSTICE
DESCRIPTION:Saturday\, June 23th\, 2018\, head to the East Side for Milwaukee’s official celebration of the summer soulstice\, now in its 18th year!\nPresented by Miller Lite & hosted by the East Side Business Improvement District.\n\nSummer Soulstice is the largest free showcase of top local bands along with visual artists\, makers of Milwaukee's arts/crafts scene curated by the Waxwing\, creation stations\, East Side restaurants\, active events\, family-friendly activities and more.
URL:https://www.lajajakids.com/en/event/%e5%a4%8f%e6%97%a5%e5%8b%95%e6%84%9f%e9%9f%b3%e6%a8%82%e6%9c%83/
LOCATION:Edgemar Courtyard\, 2427 Main\, Santa Monica\, CA\, 90405\, United States
GEO:34.0035616;-118.4847408
X-APPLE-STRUCTURED-LOCATION;VALUE=URI;X-ADDRESS=Edgemar Courtyard 2427 Main Santa Monica CA 90405 United States;X-APPLE-RADIUS=500;X-TITLE=Edgemar Courtyard\, 2427 Main:geo:-118.4847408,34.0035616
CATEGORIES:Red,JaJa’s Picks
ATTACH;FMTTYPE=image/jpeg:https://www.lajajakids.com/wp-content/uploads/2017/06/display.jpg
END:VEVENT
END:VCALENDAR