BEGIN:VCALENDAR
VERSION:2.0
PRODID:-//La JaJa - ECPv4.3.4.1//NONSGML v1.0//EN
CALSCALE:GREGORIAN
METHOD:PUBLISH
X-WR-CALNAME:La JaJa
X-ORIGINAL-URL:https://www.lajajakids.com/en
X-WR-CALDESC:Events for La JaJa
BEGIN:VEVENT
DTSTART;VALUE=DATE:20180630
DTEND;VALUE=DATE:20180825
DTSTAMP:20260420T042021
CREATED:20180629T025108Z
LAST-MODIFIED:20180825T120049Z
UID:61242-1530316800-1535241599@www.lajajakids.com
SUMMARY:Summer Movies in the Park
DESCRIPTION:June 30: Paddington 2  Victor Park 4727 Emerald Street\n\nJuly 28: Despicable Me 3 El Retiro Park 126 Vista del Parque\n\nAugust 25: Moana  Wilson Park 2200 Crenshaw Boulevard\n\nThe Movies in the Park program is presented by the Community Services Department in cooperation with Torrance Homeowners’ Associations.  Families are invited to join us as local parks turn into movie theaters! All movies begin at dusk (around 8:00 pm). Bring your warm clothes\, lawn chairs\, and popcorn and join the fun.\n2018 Schedule:\nSaturday\, June 30\n\nPaddington 2 (rated PG)\n\nVictor Park\n\n4727 Emerald Street\n\nSaturday\, July 28\n\nDespicable Me 3(rated PG)\n\nEl Retiro Park\n\n126 Vista del Parque\n\nSaturday\, August 25\n\nMoana (rated PG)\n\nWilson Park\n\n2200 Crenshaw Boulevard
URL:https://www.lajajakids.com/en/event/%e5%a4%8f%e5%a4%a9%e5%85%ac%e5%9c%92%e9%9b%bb%e5%bd%b1%e6%99%82%e5%85%89/
LOCATION:4727 Emerald Street\, Torrance\, CA\, United States
GEO:33.8413412;-118.3634873
X-APPLE-STRUCTURED-LOCATION;VALUE=URI;X-ADDRESS=4727 Emerald Street Torrance CA United States;X-APPLE-RADIUS=500;X-TITLE=4727 Emerald Street:geo:-118.3634873,33.8413412
CATEGORIES:Red,JaJa’s Picks
ATTACH;FMTTYPE=image/jpeg:https://www.lajajakids.com/wp-content/uploads/2018/06/2018-Cathy-Freeman-Park-Movies-by-the-Boulevard.jpg
END:VEVENT
END:VCALENDAR