BEGIN:VCALENDAR
VERSION:2.0
PRODID:-//La JaJa - ECPv4.3.4.1//NONSGML v1.0//EN
CALSCALE:GREGORIAN
METHOD:PUBLISH
X-WR-CALNAME:La JaJa
X-ORIGINAL-URL:https://www.lajajakids.com/en
X-WR-CALDESC:Events for La JaJa
BEGIN:VEVENT
DTSTART;VALUE=DATE:20190407
DTEND;VALUE=DATE:20190407
DTSTAMP:20260423T165803
CREATED:20180413T041643Z
LAST-MODIFIED:20190406T015214Z
UID:58659-1554595200-1554681599@www.lajajakids.com
SUMMARY:Summer Fun & Camp Fair (Burbank)
DESCRIPTION:The Summer Fun & Camp Fair is an opportunity to obtain information and talk to camp and summer program representatives. Families can enjoy an afternoon outdoors filled with activities for kids to participate in and preview the summer fun coming.
URL:https://www.lajajakids.com/en/event/%e5%a4%8f%e4%bb%a4%e7%87%9f%e5%9c%92%e9%81%8a%e6%9c%83/
LOCATION:1105 W. Riverside Drive\, Burbank\, CA\, United States
CATEGORIES:Memorial Weekend
ATTACH;FMTTYPE=image/png:https://www.lajajakids.com/wp-content/uploads/2018/04/camp_fair_0.png
END:VEVENT
END:VCALENDAR