BEGIN:VCALENDAR
VERSION:2.0
PRODID:-//La JaJa - ECPv4.3.4.1//NONSGML v1.0//EN
CALSCALE:GREGORIAN
METHOD:PUBLISH
X-WR-CALNAME:La JaJa
X-ORIGINAL-URL:https://www.lajajakids.com/en
X-WR-CALDESC:Events for La JaJa
BEGIN:VEVENT
DTSTART;VALUE=DATE:20180929
DTEND;VALUE=DATE:20180929
DTSTAMP:20260423T221834
CREATED:20180929T032518Z
LAST-MODIFIED:20180929T032518Z
UID:63659-1538179200-1538265599@www.lajajakids.com
SUMMARY:First Nation's Harvest Festival
DESCRIPTION:Native American Dancers\, Drummers\, Musicians\, Singers\, Storytellers\, with Artisans including Basket Weavers\, Pottery Makers\, Wood Carvers and more! Educational Exhibitors and Native Groups. Free admission and free Parking.\n\nFor further information contact:\n\nDiane Alarcon – 909.599.7512 ; dalarcon@parks.lacounty.gov\n\nVicky Huynh – vhuynh@parks.lacounty.gov\n\nLocation:\n\nBlackwill Arena\n\nNext to Whittier Narrows Equestrian Center\n\n12191 Rooks Road\n\nSouth El Monte\, CA 91733
URL:https://www.lajajakids.com/en/event/%e5%9c%8b%e9%9a%9b%e8%b1%90%e6%94%b6%e6%85%b6%e7%a5%9d%e6%9c%83/
LOCATION:12191 Rooks Road Next to Whittier Narrows Equestrian Center\, South El Monte\, CA\, United States
CATEGORIES:Red,JaJa’s Picks
ATTACH;FMTTYPE=image/jpeg:https://www.lajajakids.com/wp-content/uploads/2018/09/10781540-london-canada-september-17-2011-a-first-nations-canadian-wearing-traditional-clothing-participates-i.jpg
END:VEVENT
END:VCALENDAR